BEGIN:VCALENDAR
VERSION:2.0
PRODID:-//Sounds of Africa - ECPv5.3.2.1//NONSGML v1.0//EN
CALSCALE:GREGORIAN
METHOD:PUBLISH
X-WR-CALNAME:Sounds of Africa
X-ORIGINAL-URL:https://www.soundsofafrica.org
X-WR-CALDESC:Events for Sounds of Africa
BEGIN:VTIMEZONE
TZID:Europe/London
BEGIN:DAYLIGHT
TZOFFSETFROM:+0000
TZOFFSETTO:+0100
TZNAME:BST
DTSTART:20210328T010000
END:DAYLIGHT
BEGIN:STANDARD
TZOFFSETFROM:+0100
TZOFFSETTO:+0000
TZNAME:GMT
DTSTART:20211031T010000
END:STANDARD
END:VTIMEZONE
BEGIN:VEVENT
DTSTART;TZID=Europe/London:20211031T180000
DTEND;TZID=Europe/London:20211031T230000
DTSTAMP:20260420T012929
CREATED:20210719T192213Z
LAST-MODIFIED:20210719T194143Z
UID:10008-1635703200-1635721200@www.soundsofafrica.org
SUMMARY:Zlatan Live In Concert UK
DESCRIPTION:Zlatan Live In Concert UK \nAfrobeats fans in the UK are in for a treat as one of the most influential superstars\, Zlatan\, announces his first UK headline show at Indigo At The O2 on 31st October 2021. \nThe Zanku ‘leg work’ dance creator Zlatan experienced incredible high points in 2019; with hits dominating the clubs and dance floors across the world\, including his monster record with Grammy Award Winner Burna Boy (Killin Dem)\, which was also one of the first Afrobeats records to be featured on the updated versions of popular video game Grand Theft Auto V in 2019. \nRacking up over 200 million youtube views with his exciting catalogue of hits and collaborations with Davido\, Olamide\, DJ Cuppy\, Patoranking\, Buju\, Tiwa Savage\, Burna Boy and Django23. \nThere is no doubt that Zlatan is one of the young African rising stars that continue to cause havoc in the music industry as he announces his first UK headline show at Indigo At The O2 featuring special guest performances. \nZlatan live in Concert UK is powered by Smade Entertainment. Full Line-up Announcement Coming Soon! \n#ZlatanLiveInLondon \nZlatan Live In Concert UK For more info\, click here! \nLastly\, stay up to date with all you need to know about African music at SOA\, right here.
URL:https://www.soundsofafrica.org/event/zlatan-live-in-concert-uk-2/
LOCATION:Indigo at The O₂\, 205 Peninsula Square\, Greenwich Peninsula\, London\, SE10 0ES\, United Kingdom
CATEGORIES:concert
ATTACH;FMTTYPE=image/png:https://www.soundsofafrica.org/wp-content/uploads/2021/07/screenshot-2021-07-19-at-20.14.12.png
ORGANIZER;CN="SMADE%20Entertainment":MAILTO:info@smade.co.uk
END:VEVENT
END:VCALENDAR