BEGIN:VCALENDAR
VERSION:2.0
PRODID:-//Sounds of Africa - ECPv5.3.2.1//NONSGML v1.0//EN
CALSCALE:GREGORIAN
METHOD:PUBLISH
X-WR-CALNAME:Sounds of Africa
X-ORIGINAL-URL:https://www.soundsofafrica.org
X-WR-CALDESC:Events for Sounds of Africa
BEGIN:VTIMEZONE
TZID:Europe/London
BEGIN:DAYLIGHT
TZOFFSETFROM:+0000
TZOFFSETTO:+0100
TZNAME:BST
DTSTART:20190331T010000
END:DAYLIGHT
BEGIN:STANDARD
TZOFFSETFROM:+0100
TZOFFSETTO:+0000
TZNAME:GMT
DTSTART:20191027T010000
END:STANDARD
END:VTIMEZONE
BEGIN:VEVENT
DTSTART;TZID=Europe/London:20191219T180000
DTEND;TZID=Europe/London:20191220T030000
DTSTAMP:20260422T132930
CREATED:20200118T152329Z
LAST-MODIFIED:20200123T170613Z
UID:5610-1576778400-1576810800@www.soundsofafrica.org
SUMMARY:YKEE BENDA LIVE AT THE KAMPALA NIGHTS
DESCRIPTION:YKEE BENDA LIVE AT THE KAMPALA NIGHTSKampala\, a famous city known for its excitements especially during this time of year will be hosting Famous musical artist YKEE BENDA. \nFormer engineer Ykee gave up engineering for his music career after he realised he had a natural talent and drive for music. He broke out in 2015 with a hit single called ‘Mula Kampala’ and since then\, all his tracks are making hits such as ‘Malaika’ and ‘Farmer’. \nTugume Wycliffe aka Ykee will be showcasing alongside other artists such as The Mith and Play 01. Hosted by the fabulous Sue O’chola de Roy (a fashionpreneur)\, Kampala Nights Edition on Thursday 19th December 2019 is going down. \nThis is based on previous events and lineup for this show. This includes A-list DJs as well such as Dj Dash and Cheek o Dread. \nThis event will be at the OneTen on Seventh\, industrial area from 6pm till the morning. \nKampala Nights just keeps giving. So come and enjoy from the city that keeps celebrating and never settles for less than living it’s best life. \nPurchase your tickets now at  https://www.quicket.co.ug/events/94387-kampala-nights/#/ \nLastly\, stay up to date with all you need to know about African music at Sounds of Africa
URL:https://www.soundsofafrica.org/event/ykee-benda-live-at-the-kampala-nights-2/
LOCATION:Casederoy\, Industrial Area\, Kampala\, Kampala\, Uganda
CATEGORIES:clubbing-concert
ATTACH;FMTTYPE=image/jpeg:https://www.soundsofafrica.org/wp-content/uploads/2019/12/photo-2019-12-15-09-11-31.jpg
END:VEVENT
END:VCALENDAR