BEGIN:VCALENDAR
VERSION:2.0
PRODID:-//Sounds of Africa - ECPv5.3.2.1//NONSGML v1.0//EN
CALSCALE:GREGORIAN
METHOD:PUBLISH
X-WR-CALNAME:Sounds of Africa
X-ORIGINAL-URL:https://www.soundsofafrica.org
X-WR-CALDESC:Events for Sounds of Africa
BEGIN:VTIMEZONE
TZID:Europe/London
BEGIN:DAYLIGHT
TZOFFSETFROM:+0000
TZOFFSETTO:+0100
TZNAME:BST
DTSTART:20200329T010000
END:DAYLIGHT
BEGIN:STANDARD
TZOFFSETFROM:+0100
TZOFFSETTO:+0000
TZNAME:GMT
DTSTART:20201025T010000
END:STANDARD
END:VTIMEZONE
BEGIN:VEVENT
DTSTART;TZID=Europe/London:20200822T120000
DTEND;TZID=Europe/London:20200823T230000
DTSTAMP:20260420T014425
CREATED:20200304T230337Z
LAST-MODIFIED:20200627T103632Z
UID:6599-1598097600-1598223600@www.soundsofafrica.org
SUMMARY:YAM Carnival 2020 *Postponed*
DESCRIPTION:YAM Carnival is a brand new carnival coming to London’s Clapham Common in the summer of 2020\, brought to you by the minds behind Afro Nation. \nCome and celebrate the culture and music from all over the African diaspora at the debut edition of YAM Carnival this summer. \nThe festival will be run by the organisers of Afro Nation\, the Portuguese festival that draws together various cultural strands from the African diaspora. \nJoining them for their debut edition will be Davido\, Mr Eazi\, Tekno\, Timaya\, Wizkid and Yemi Alade. \nAlso performing across the weekend will be Yxng Bane\, Not3s\, Flavour and more. \nYAM Carnival 2020 sign up For more info click here! \nLastly\, stay up to date with all you need to know about African music at SOA\, right here. \n 
URL:https://www.soundsofafrica.org/event/yam-festival-2020/
LOCATION:Clapham Common\,\, Windmill Dr\, London\, SW4 9DE\, United Kingdom
CATEGORIES:festival,Postponed
ATTACH;FMTTYPE=image/jpeg:https://www.soundsofafrica.org/wp-content/uploads/2020/03/yam-festival.jpg
ORGANIZER;CN="Afronation":MAILTO:hello@afronation.com
END:VEVENT
END:VCALENDAR