BEGIN:VCALENDAR
VERSION:2.0
PRODID:-//Sounds of Africa - ECPv5.3.2.1//NONSGML v1.0//EN
CALSCALE:GREGORIAN
METHOD:PUBLISH
X-WR-CALNAME:Sounds of Africa
X-ORIGINAL-URL:https://www.soundsofafrica.org
X-WR-CALDESC:Events for Sounds of Africa
BEGIN:VTIMEZONE
TZID:Europe/London
BEGIN:DAYLIGHT
TZOFFSETFROM:+0000
TZOFFSETTO:+0100
TZNAME:BST
DTSTART:20190331T010000
END:DAYLIGHT
BEGIN:STANDARD
TZOFFSETFROM:+0100
TZOFFSETTO:+0000
TZNAME:GMT
DTSTART:20191027T010000
END:STANDARD
END:VTIMEZONE
BEGIN:VEVENT
DTSTART;TZID=Europe/London:20191019T230000
DTEND;TZID=Europe/London:20191019T230000
DTSTAMP:20260420T010625
CREATED:20200118T152325Z
LAST-MODIFIED:20200123T173533Z
UID:5609-1571526000-1571526000@www.soundsofafrica.org
SUMMARY:Wizkid Starboy Fest UK
DESCRIPTION:Nigerian singer Wizkid started recording music at a tender age. He rose to prominence under his then record label EME\, release ‘Holla at your boy’ in 2010 from his debut studio album.Wizkid’s international recognition came in 2016 when he Collaborated with Drake on their hit single ‘One Dance’ which reached No1 in several countries including UK\, US\, Canada and Australia. \n2018\, Wizkid became the first Afrobeats artists to sell out (Afrorepublik)The 02 Arena London. Wizkid is getting ready to have a second headline concert ‘Starboy fest’ concert at The 02 London and Manchester. \nFellow artists on the night will be Afro B\, Maleek Berry\, Ms Banks and more.
URL:https://www.soundsofafrica.org/event/wizkid-starboy-fest-uk-2/
LOCATION:The O2 Arena\, Peninsula Square\, Greenwich Peninsula\, London\, London\, SE10 0DX\, United Kingdom
CATEGORIES:concert,festival
ATTACH;FMTTYPE=image/jpeg:https://www.soundsofafrica.org/wp-content/uploads/2019/09/57246.jpg
ORGANIZER;CN="Live%20Nation":MAILTO:info@livenation.co.uk
END:VEVENT
END:VCALENDAR