BEGIN:VCALENDAR
VERSION:2.0
PRODID:-//Sounds of Africa - ECPv5.3.2.1//NONSGML v1.0//EN
CALSCALE:GREGORIAN
METHOD:PUBLISH
X-WR-CALNAME:Sounds of Africa
X-ORIGINAL-URL:https://www.soundsofafrica.org
X-WR-CALDESC:Events for Sounds of Africa
BEGIN:VTIMEZONE
TZID:Europe/London
BEGIN:DAYLIGHT
TZOFFSETFROM:+0000
TZOFFSETTO:+0100
TZNAME:BST
DTSTART:20190331T010000
END:DAYLIGHT
BEGIN:STANDARD
TZOFFSETFROM:+0100
TZOFFSETTO:+0000
TZNAME:GMT
DTSTART:20191027T010000
END:STANDARD
END:VTIMEZONE
BEGIN:VEVENT
DTSTART;TZID=Europe/London:20191129T190000
DTEND;TZID=Europe/London:20191129T190000
DTSTAMP:20260420T014512
CREATED:20200118T152325Z
LAST-MODIFIED:20200202T180210Z
UID:5606-1575054000-1575054000@www.soundsofafrica.org
SUMMARY:Tony Allen at Electric
DESCRIPTION:Tony Allen\, Nigerian legendary drummer\, musical composer for Afrobeat pioneer Fela Kuti’s band in the 60s and 70s. \nFela once stated that\, “without Tony Allen\, there would be no Afrobeat \nHe is Known as one of the founding fathers of Afrobeat\, and considered one of the best drummers of all time\, described by Brian Eno \nHe has released numerous albums\, both as part of his own band and with Fela Kuti. ‘Film of Life’\, was his recent release featuring Damon Albarn. \nIn 2019\, filmmaker Opiyo Okeyo released the documentary film Birth of Afrobeat about Allen’s life in music. The film screened at American Black Film Festival and won the 21st Century Fox Global Inclusion Award for Emerging Voices at the BlackStar Film Festival \nTickets link \n  \n 
URL:https://www.soundsofafrica.org/event/tony-allen-at-electric/
LOCATION:Electric Brixton\, Town Hall Parade\, Brixton\, London SW2 1RJ\, London\, United Kingdom
CATEGORIES:afrobeat,concert
ATTACH;FMTTYPE=image/jpeg:https://www.soundsofafrica.org/wp-content/uploads/2019/09/tony-allen-performing-royal-festival-hall-1.jpg
END:VEVENT
END:VCALENDAR