BEGIN:VCALENDAR
VERSION:2.0
PRODID:-//Sounds of Africa - ECPv5.3.2.1//NONSGML v1.0//EN
CALSCALE:GREGORIAN
METHOD:PUBLISH
X-WR-CALNAME:Sounds of Africa
X-ORIGINAL-URL:https://www.soundsofafrica.org
X-WR-CALDESC:Events for Sounds of Africa
BEGIN:VTIMEZONE
TZID:Europe/London
BEGIN:DAYLIGHT
TZOFFSETFROM:+0000
TZOFFSETTO:+0100
TZNAME:BST
DTSTART:20210328T010000
END:DAYLIGHT
BEGIN:STANDARD
TZOFFSETFROM:+0100
TZOFFSETTO:+0000
TZNAME:GMT
DTSTART:20211031T010000
END:STANDARD
END:VTIMEZONE
BEGIN:VEVENT
DTSTART;TZID=Europe/London:20211217T180000
DTEND;TZID=Europe/London:20211217T233000
DTSTAMP:20260422T190953
CREATED:20211215T024819Z
LAST-MODIFIED:20211215T024819Z
UID:11356-1639764000-1639783800@www.soundsofafrica.org
SUMMARY:Tiwa Savage Headline Livespot X Festival
DESCRIPTION:Tiwa Savage Headline Livespot X Festival \nThe Livespot X Festival is a multi-day hybrid convergence of everything X-traordinary\, X-citing and X-clusive\, that celebrates urban pop culture. \nThey bring a dynamic X-perience that is fully compliant with the current pandemic era we live in and targeted at a diverse audience. Each concert day is tailor-made to suit each group of attendees. \nThe festival includes a string of hybrid events (physical & virtual) that features headline acts performing live\, pristine sound\, world-class lighting\, immersive experiences\, exotic cuisine and much more. \nIt is designed to meet and exceed the entertainment cravings of Nigerians and diasporans\, especially during Detty December. \nThere are several Headline acts such as Wizkid\, Tiwa Savage\, P-Square\, Tems and Many More. \nLastly\, stay up to date with all you need to know about African music at SOA\, right here. \nTiwa Savage Headline Livespot X Festival
URL:https://www.soundsofafrica.org/event/tiwa-savage-headline-livespot-x-festival/
LOCATION:LIVESPOT ENTERTAINMENT CENTRE\, Lagos\, Ikate\, Lekki\, Nigeria
CATEGORIES:festival
ATTACH;FMTTYPE=image/png:https://www.soundsofafrica.org/wp-content/uploads/2021/12/screenshot-2021-12-15-at-02.25.40.png
END:VEVENT
END:VCALENDAR