BEGIN:VCALENDAR
VERSION:2.0
PRODID:-//Sounds of Africa - ECPv5.3.2.1//NONSGML v1.0//EN
CALSCALE:GREGORIAN
METHOD:PUBLISH
X-WR-CALNAME:Sounds of Africa
X-ORIGINAL-URL:https://www.soundsofafrica.org
X-WR-CALDESC:Events for Sounds of Africa
BEGIN:VTIMEZONE
TZID:Europe/London
BEGIN:DAYLIGHT
TZOFFSETFROM:+0000
TZOFFSETTO:+0100
TZNAME:BST
DTSTART:20220327T010000
END:DAYLIGHT
BEGIN:STANDARD
TZOFFSETFROM:+0100
TZOFFSETTO:+0000
TZNAME:GMT
DTSTART:20221030T010000
END:STANDARD
END:VTIMEZONE
BEGIN:VEVENT
DTSTART;TZID=Europe/London:20220729T180000
DTEND;TZID=Europe/London:20220729T220000
DTSTAMP:20260420T065832
CREATED:20220715T215305Z
LAST-MODIFIED:20220715T222014Z
UID:12811-1659117600-1659132000@www.soundsofafrica.org
SUMMARY:The Rotimo's Shockolate Show
DESCRIPTION:Rotimo’s Shockolate Show\n\nFollowing the success of his latest single ‘Shockolate’ and his own chocolate brand/business with the same name\, Rotimo is once again lighting up stages with Afrobeats music in the UK.\nHis particular Afrobeats sound is fused with Pop\, R&B/Soul\, Hip Hop\, and Jazz/Funk. He’s bringing together all that musical heat for this concert along with some special talents to support him and showcase some of the UK’s best Afrobeats artists and dancers. His supporting line up includes Patience J\, Damola Davis\, Rebecca Winterr and Komo.\n\n\nRotimo’s Shockolate Show Tickets For more info\, click here! \nLastly\, stay up to date with all you need to know about African music at SOA\, right here.
URL:https://www.soundsofafrica.org/event/the-rotimos-shockolate-show/
LOCATION:02 Academy Islington\, N1 Centre\, Angel Central\, 16 Parkfield Street\, London\, London\, N1 0PS\, United Kingdom
CATEGORIES:afrobeats
ATTACH;FMTTYPE=image/jpeg:https://www.soundsofafrica.org/wp-content/uploads/2022/07/ab67616d0000b2737ec873160df73dd1913e458b.jpg
END:VEVENT
END:VCALENDAR