BEGIN:VCALENDAR
VERSION:2.0
PRODID:-//Sounds of Africa - ECPv5.3.2.1//NONSGML v1.0//EN
CALSCALE:GREGORIAN
METHOD:PUBLISH
X-WR-CALNAME:Sounds of Africa
X-ORIGINAL-URL:https://www.soundsofafrica.org
X-WR-CALDESC:Events for Sounds of Africa
BEGIN:VTIMEZONE
TZID:Europe/London
BEGIN:DAYLIGHT
TZOFFSETFROM:+0000
TZOFFSETTO:+0100
TZNAME:BST
DTSTART:20190331T010000
END:DAYLIGHT
BEGIN:STANDARD
TZOFFSETFROM:+0100
TZOFFSETTO:+0000
TZNAME:GMT
DTSTART:20191027T010000
END:STANDARD
END:VTIMEZONE
BEGIN:VEVENT
DTSTART;TZID=Europe/London:20191108T180000
DTEND;TZID=Europe/London:20191109T000000
DTSTAMP:20260420T065050
CREATED:20200118T152322Z
LAST-MODIFIED:20200123T171715Z
UID:5604-1573236000-1573257600@www.soundsofafrica.org
SUMMARY:The Human Radio
DESCRIPTION:The Queen of Afro-House\, Niniola held her first Human Radio concert in 2018\, It was a great outing for Niniola and her fans.Furthermore\, her theatrical entrance with talking drum and conservative traditional dancers was great. \nIt was beautiful and offers her fans\, a musical experience that will stay with them for a period of time. \nMoreover\, The event was held at the Landmark Event Center\, Lagos Nigeria. \nHer second Human Radio concert will be held on the 8th of November 2019. \nclick to Purchase TICKETS
URL:https://www.soundsofafrica.org/event/the-human-radio/
LOCATION:Balmoral Hall\, Federal Palace Hotel\, Victoria Island\, Lagos\, Lagos\, Nigeria
CATEGORIES:afrobeats,concert
ATTACH;FMTTYPE=image/jpeg:https://www.soundsofafrica.org/wp-content/uploads/2019/10/the-human-radio-concert.jpg
END:VEVENT
END:VCALENDAR