BEGIN:VCALENDAR
VERSION:2.0
PRODID:-//Sounds of Africa - ECPv5.3.2.1//NONSGML v1.0//EN
CALSCALE:GREGORIAN
METHOD:PUBLISH
X-WR-CALNAME:Sounds of Africa
X-ORIGINAL-URL:https://www.soundsofafrica.org
X-WR-CALDESC:Events for Sounds of Africa
BEGIN:VTIMEZONE
TZID:Europe/London
BEGIN:DAYLIGHT
TZOFFSETFROM:+0000
TZOFFSETTO:+0100
TZNAME:BST
DTSTART:20220327T010000
END:DAYLIGHT
BEGIN:STANDARD
TZOFFSETFROM:+0100
TZOFFSETTO:+0000
TZNAME:GMT
DTSTART:20221030T010000
END:STANDARD
END:VTIMEZONE
BEGIN:VEVENT
DTSTART;TZID=Europe/London:20221016T180000
DTEND;TZID=Europe/London:20221016T220000
DTSTAMP:20260420T070335
CREATED:20220715T221620Z
LAST-MODIFIED:20220715T221620Z
UID:12817-1665943200-1665957600@www.soundsofafrica.org
SUMMARY:The Fantasy Fair Experience -Princess Wonda
DESCRIPTION:The Fantasy Fair Experience -Princess Wonda\n\nThis is a high-energy music experience hosted by the multiple charted award-nominated artist Princess Wonda; also known as ‘Princess of Afrofusion’ at Omeara London. The show will take the audience on a musical journey enjoying international and domestic opening acts such as Damola Davis\, Da Real3st\, and Sona as well as a few special appearances from international and domestic artists.\n\nThe main event will consist of Princess Wonda performing various songs from the Fantasy Fair album with an intimate crowd. Audiences can look forward to her melodic vocals\, on-stage energy\, live band\, and electric show. \n\n\nThe Fantasy Fair Experience -Princess Wonda–  Tickets For more info\, click here! \nLastly\, stay up to date with all you need to know about African music at SOA\, right here.
URL:https://www.soundsofafrica.org/event/the-fantasy-fair-experience-princess-wonda/
LOCATION:OMEARA\, 6 O'Meara St\,\, London\, SE1 1TE\, United Kingdom
CATEGORIES:concert
ATTACH;FMTTYPE=image/png:https://www.soundsofafrica.org/wp-content/uploads/2022/07/467152821-300x300-1.png
END:VEVENT
END:VCALENDAR