BEGIN:VCALENDAR
VERSION:2.0
PRODID:-//Sounds of Africa - ECPv5.3.2.1//NONSGML v1.0//EN
CALSCALE:GREGORIAN
METHOD:PUBLISH
X-WR-CALNAME:Sounds of Africa
X-ORIGINAL-URL:https://www.soundsofafrica.org
X-WR-CALDESC:Events for Sounds of Africa
BEGIN:VTIMEZONE
TZID:Europe/London
BEGIN:DAYLIGHT
TZOFFSETFROM:+0000
TZOFFSETTO:+0100
TZNAME:BST
DTSTART:20200329T010000
END:DAYLIGHT
BEGIN:STANDARD
TZOFFSETFROM:+0100
TZOFFSETTO:+0000
TZNAME:GMT
DTSTART:20201025T010000
END:STANDARD
END:VTIMEZONE
BEGIN:VEVENT
DTSTART;TZID=Europe/London:20200717T160000
DTEND;TZID=Europe/London:20200719T020000
DTSTAMP:20260422T190459
CREATED:20200203T212442Z
LAST-MODIFIED:20200627T104004Z
UID:6297-1595001600-1595124000@www.soundsofafrica.org
SUMMARY:The Algarve\, Portimao\, Portugal *Postponed*
DESCRIPTION:Afronation held its first event in Europe (The Algarve Portimao\, Portugal) in 2019. It was billed as the first festival to celebrate the African Diaspora. \nOver\, 20\,000 people of African descent gathered to enjoy four days of live music from African\, Caribbean\, European and American artists. \nThe festival was titled “The Biggest Urban Music Beach Festival in Europe”. \nMoreover\, but if you really take the time to think about what it really takes to not only pull off a festival of that magnitude but to do so successfully\, you’d definitely agree that the festival lives up to its heavyweight title. \nThe event was undeniably a friendly community atmosphere\, filled with a sense of family spirit and oneness among the fans. \nThe second installment was in Ghana and was held at Laboma Beach\, Accra Ghana. \nWhile the third installment of Afronation will be held at Balneario de Carolina\, San Juan\, Puerto Rico \nFuthermore\, Click to Purchase your (The Algarve\, Portimao\, Portugal ) TICKETS \nLastly\, stay up to date with all you need to know about African music at SOA\, right here.
URL:https://www.soundsofafrica.org/event/the-algarve-portimao-portugal/
LOCATION:The Algarve\, Portimao\, Portugal
CATEGORIES:festival,Postponed
ATTACH;FMTTYPE=image/png:https://www.soundsofafrica.org/wp-content/uploads/2019/10/afronation-ghana.png
ORGANIZER;CN="Afronation":MAILTO:hello@afronation.com
END:VEVENT
END:VCALENDAR