BEGIN:VCALENDAR
VERSION:2.0
PRODID:-//Sounds of Africa - ECPv5.3.2.1//NONSGML v1.0//EN
CALSCALE:GREGORIAN
METHOD:PUBLISH
X-WR-CALNAME:Sounds of Africa
X-ORIGINAL-URL:https://www.soundsofafrica.org
X-WR-CALDESC:Events for Sounds of Africa
BEGIN:VTIMEZONE
TZID:Europe/London
BEGIN:DAYLIGHT
TZOFFSETFROM:+0000
TZOFFSETTO:+0100
TZNAME:BST
DTSTART:20200329T010000
END:DAYLIGHT
BEGIN:STANDARD
TZOFFSETFROM:+0100
TZOFFSETTO:+0000
TZNAME:GMT
DTSTART:20201025T010000
END:STANDARD
END:VTIMEZONE
BEGIN:VEVENT
DTSTART;TZID=Europe/London:20200207T190000
DTEND;TZID=Europe/London:20200207T230000
DTSTAMP:20260420T072335
CREATED:20200128T043010Z
LAST-MODIFIED:20200128T043010Z
UID:6024-1581102000-1581116400@www.soundsofafrica.org
SUMMARY:The African Giant Returns Tour
DESCRIPTION:The African Giant Returns Tour \nGrammy Nominatee\, Nigerian singer\, song writer and Afro Fusion singer. \nHe is known for his smooth patois influenced delivery in a voice reminiscent of notable music legends. \nBurna Boy has consistently wowed fans with his original and unpredictable style and energetic performances. \nIn 2012\, he rose to prominence after releasing “Like to Party”\, the lead single from his debut studio album L.I.F.E(2013) \nHis body of work includes hits like “ Like To Party”\, “ Tonight”\, “Yawa Dey”\,” Run My Race “\, “ Don Gorgon “\, “Soke”\, “Pree Me”\,  “Heavens Gate”\, “Ye”\, “On the Low”\, “Dangote”\, “Killin Dem”\, “African Giant”\, “Money Play” and many more \nThe year 2019 has been a good year for Burnaboy\, with the release of his successful new album “African Giant” and won BET international Act award \nFuthermore\, his concerts are always intriguing\, unpredictable and energetic performances. \nThe African Giant Returns Tour For more info click here! \nLastly\, stay up to date with all you need to know about African music at SOA\, right here. \n 
URL:https://www.soundsofafrica.org/event/the-african-giant-returns-tour/
LOCATION:Atlantico\, Viale dell'Oceano Atlantico\,\, Rome\, Rome\, 271D\, 00144 Roma RM\, Italy
CATEGORIES:afrobeats,concert
ATTACH;FMTTYPE=image/jpeg:https://www.soundsofafrica.org/wp-content/uploads/2020/01/photo-2020-01-23-02-07-49.jpg
END:VEVENT
END:VCALENDAR