BEGIN:VCALENDAR
VERSION:2.0
PRODID:-//Sounds of Africa - ECPv5.3.2.1//NONSGML v1.0//EN
CALSCALE:GREGORIAN
METHOD:PUBLISH
X-WR-CALNAME:Sounds of Africa
X-ORIGINAL-URL:https://www.soundsofafrica.org
X-WR-CALDESC:Events for Sounds of Africa
BEGIN:VTIMEZONE
TZID:Europe/London
BEGIN:DAYLIGHT
TZOFFSETFROM:+0000
TZOFFSETTO:+0100
TZNAME:BST
DTSTART:20200329T010000
END:DAYLIGHT
BEGIN:STANDARD
TZOFFSETFROM:+0100
TZOFFSETTO:+0000
TZNAME:GMT
DTSTART:20201025T010000
END:STANDARD
END:VTIMEZONE
BEGIN:VEVENT
DTSTART;TZID=Europe/London:20200812T080000
DTEND;TZID=Europe/London:20200904T170000
DTSTAMP:20260422T171300
CREATED:20200821T202039Z
LAST-MODIFIED:20200821T202039Z
UID:7867-1597219200-1599238800@www.soundsofafrica.org
SUMMARY:The Africa Soft Power Series
DESCRIPTION:                                                                                             The Africa Soft Power Series \nThe virtual summit brings together some of the most prominent thought leaders and pioneers\, focused and passionate about Africa. \nAccording to the website\, With so many negative stories about Africa\, the theme\, ‘Creative Power: Content\, Culture and Platforms’ sets the stage for crucial dialogues on how Africa can harness its soft power effectively\, to advance strategic interests and shape global conversations. \nAs the world’s last large\, underdeveloped market\, the importance of the creative and knowledge industries takes on added significance when we consider that the continent will be home to more than a third of the world’s population and half of the world’s youth by 2100. \nIn addition\, current global affairs underscore that the struggles of African-Americans and people of African heritage are equally the continent’s struggle. \nAfrica must ensure that its creative\, technological and cultural assets translate into tangible engines of social and economic growth for all its people. \nThe Africa Soft Power Series: For more information click here  \n\nLastly\, stay up to date with all you need to know about African music at SOA\, right here.\n\n\n\n 
URL:https://www.soundsofafrica.org/event/the-africa-soft-power-series/
CATEGORIES:Event
ATTACH;FMTTYPE=image/png:https://www.soundsofafrica.org/wp-content/uploads/2020/08/screenshot-2020-08-21-at-21.04.47.png
END:VEVENT
END:VCALENDAR