BEGIN:VCALENDAR
VERSION:2.0
PRODID:-//Sounds of Africa - ECPv5.3.2.1//NONSGML v1.0//EN
CALSCALE:GREGORIAN
METHOD:PUBLISH
X-WR-CALNAME:Sounds of Africa
X-ORIGINAL-URL:https://www.soundsofafrica.org
X-WR-CALDESC:Events for Sounds of Africa
BEGIN:VTIMEZONE
TZID:Europe/London
BEGIN:DAYLIGHT
TZOFFSETFROM:+0000
TZOFFSETTO:+0100
TZNAME:BST
DTSTART:20190331T010000
END:DAYLIGHT
BEGIN:STANDARD
TZOFFSETFROM:+0100
TZOFFSETTO:+0000
TZNAME:GMT
DTSTART:20191027T010000
END:STANDARD
END:VTIMEZONE
BEGIN:VEVENT
DTSTART;TZID=Europe/London:20191216T180000
DTEND;TZID=Europe/London:20191216T230000
DTSTAMP:20260422T190910
CREATED:20200123T202116Z
LAST-MODIFIED:20200123T202116Z
UID:5872-1576519200-1576537200@www.soundsofafrica.org
SUMMARY:Teni Live in Concert: The Billionaire Experience
DESCRIPTION:The long awaited concert\, first of its kind is finally here! Teni the entertainer live in concert!! \nLagos is about to get an electrifying Makanaki performance with “Teni the Billionaire Experience” The prestigious Eko Convention Center\, Eko Hotel & Suites\, Victoria Island\, Lagos will on the 16th of December\, 2019 house this concert which promises to be an unforgettable experience. \nCome experience a mind-blowing performance as Teni the entertainer delights fans to hit songs like “Billionaire”\, “For your sake”\, “Uyo Meyo” and a lot of other sensational songs and performance from guest artistes.
URL:https://www.soundsofafrica.org/event/teni-live-in-concert-the-billionaire-experience/
LOCATION:Eko Convention Centre\, Eko Convention Centre\, Victoria Island\, Lagos\, Nigeria.\, Lagos\, Nigeria
CATEGORIES:afrobeats,concert
ATTACH;FMTTYPE=image/jpeg:https://www.soundsofafrica.org/wp-content/uploads/2020/01/bbng_68778.jpg
END:VEVENT
END:VCALENDAR