BEGIN:VCALENDAR
VERSION:2.0
PRODID:-//Sounds of Africa - ECPv5.3.2.1//NONSGML v1.0//EN
CALSCALE:GREGORIAN
METHOD:PUBLISH
X-WR-CALNAME:Sounds of Africa
X-ORIGINAL-URL:https://www.soundsofafrica.org
X-WR-CALDESC:Events for Sounds of Africa
BEGIN:VTIMEZONE
TZID:Europe/London
BEGIN:DAYLIGHT
TZOFFSETFROM:+0000
TZOFFSETTO:+0100
TZNAME:BST
DTSTART:20220327T010000
END:DAYLIGHT
BEGIN:STANDARD
TZOFFSETFROM:+0100
TZOFFSETTO:+0000
TZNAME:GMT
DTSTART:20221030T010000
END:STANDARD
END:VTIMEZONE
BEGIN:VEVENT
DTSTART;TZID=Europe/London:20220212T183000
DTEND;TZID=Europe/London:20220212T230000
DTSTAMP:20260419T233416
CREATED:20220210T222459Z
LAST-MODIFIED:20220210T222459Z
UID:12353-1644690600-1644706800@www.soundsofafrica.org
SUMMARY:Tayc LIVE in London
DESCRIPTION:Tayc LIVE in London \nTayc is performing at indigo at The O2 in London for the very first time. The NRJ award-nominated artist Tayc is coming to London for the first time to share Afrolove. \nHe is considered to be one of the significant figures of R’n’B in France right now by touching hearts with hits “N’y Pense Plus”\, “Promis Juré”\, “Ewondo Ou Bami” feat. Manu Dibango and his recent No 1 single “Le Temps”. \nValentines 2022 weekend – Congo To Global and the Collaborative Art Network presents a Prestige night filled with Love\, Romance\, and Smooth Blissful Vibes bridging the gap between French\, British swirled African Culture in the multi-Cultural City of Europe. \nPersonalise your own experience and enjoy a memorable night of food\, LIVE music & CULTURE. \nTayc LIVE in London: For more info\, click here! (SOLD OUT) \nLastly\, stay up to date with all you need to know about African music at SOA\, right here. \nTayc LIVE in London
URL:https://www.soundsofafrica.org/event/tayc-live-in-london/
LOCATION:Indigo at The O₂\, 205 Peninsula Square\, Greenwich Peninsula\, London\, SE10 0ES\, United Kingdom
CATEGORIES:concert
ATTACH;FMTTYPE=image/png:https://www.soundsofafrica.org/wp-content/uploads/2022/02/screenshot-2022-02-10-at-22.19.29.png
END:VEVENT
END:VCALENDAR