BEGIN:VCALENDAR
VERSION:2.0
PRODID:-//Sounds of Africa - ECPv5.3.2.1//NONSGML v1.0//EN
CALSCALE:GREGORIAN
METHOD:PUBLISH
X-WR-CALNAME:Sounds of Africa
X-ORIGINAL-URL:https://www.soundsofafrica.org
X-WR-CALDESC:Events for Sounds of Africa
BEGIN:VTIMEZONE
TZID:Europe/London
BEGIN:DAYLIGHT
TZOFFSETFROM:+0000
TZOFFSETTO:+0100
TZNAME:BST
DTSTART:20190331T010000
END:DAYLIGHT
BEGIN:STANDARD
TZOFFSETFROM:+0100
TZOFFSETTO:+0000
TZNAME:GMT
DTSTART:20191027T010000
END:STANDARD
END:VTIMEZONE
BEGIN:VEVENT
DTSTART;TZID=Europe/London:20191222T170000
DTEND;TZID=Europe/London:20191222T230000
DTSTAMP:20260420T051248
CREATED:20200118T152322Z
LAST-MODIFIED:20200123T170250Z
UID:5602-1577034000-1577055600@www.soundsofafrica.org
SUMMARY:TAWA Chillout
DESCRIPTION:The TAWAChillout is the best place for grown folk to come and chill with an Oldschool and Afrobeats vibe.Its a place with  great food\, drink\, music \, games\, networking and a lot of fun and laughter. \nIts the the event  with no airs or graces that also raises awareness and funds for charity. \nFor more infomation Click Here
URL:https://www.soundsofafrica.org/event/tawa-chillout-2/
LOCATION:Tereza Joanne\, King George V Dock\, Royal Docks\, London E16 2QY\, London\, E16 2QY\, United Kingdom
CATEGORIES:afrobeats,event
ATTACH;FMTTYPE=image/jpeg:https://www.soundsofafrica.org/wp-content/uploads/2019/10/tawa-chillout.jpg
END:VEVENT
END:VCALENDAR