BEGIN:VCALENDAR
VERSION:2.0
PRODID:-//Sounds of Africa - ECPv5.3.2.1//NONSGML v1.0//EN
CALSCALE:GREGORIAN
METHOD:PUBLISH
X-WR-CALNAME:Sounds of Africa
X-ORIGINAL-URL:https://www.soundsofafrica.org
X-WR-CALDESC:Events for Sounds of Africa
BEGIN:VTIMEZONE
TZID:Europe/London
BEGIN:DAYLIGHT
TZOFFSETFROM:+0000
TZOFFSETTO:+0100
TZNAME:BST
DTSTART:20200329T010000
END:DAYLIGHT
BEGIN:STANDARD
TZOFFSETFROM:+0100
TZOFFSETTO:+0000
TZNAME:GMT
DTSTART:20201025T010000
END:STANDARD
END:VTIMEZONE
BEGIN:VEVENT
DTSTART;TZID=Europe/London:20200703T080000
DTEND;TZID=Europe/London:20200705T233000
DTSTAMP:20260420T033738
CREATED:20200123T200601Z
LAST-MODIFIED:20200627T104416Z
UID:5865-1593763200-1593991800@www.soundsofafrica.org
SUMMARY:SUMMERJAM FESTIVAL IN COLOGNE *Postponed*
DESCRIPTION:SUMMERJAM FESTIVAL IN COLOGNE takes place every year on the first weekend of July in Cologne at the Fühlinger See. \n3 days relaxed celebrations – 2 open-air stages\, dancehall Arena\, chill out zone\, Bazar etc. \nSince 1986\, reggae and dancehall tunes sound over the meadows around Cologne’s  Fühlinger lake every summer. The first weekend of July sees 30.000 people from all over Europe flock to Cologne for a few days filled with a touch of Caribbean flair\, lakeside views and chilled reggae\, dancehall and hip hop sounds. \n\n\nThe line-up\n\n\nLike every year\, the line-up encompasses international and national top acts of the reggae\, hip hop and dancehall scene. From Cologne local icon Gentleman and other German stars such as Afrob\, Dendemann\, Milky Chance and Marteria\, the festival has also confirmed the attendance of Bob Marley’s eldest son Ziggy Marley\, London’s The Skints\, Alkaline and Chronixx. \n\n\n\nBut that’s far from all\, keep your eyes peeled for more bands to be added to the list. More info on SUMMERJAM FESTIVAL IN COLOGNE is available here \n\nLastly\, stay up to date with all you need to know about African music at SOA\, right here. \n \n© Courtesy of Summerjam.de | © Supplied by Summerjam.de
URL:https://www.soundsofafrica.org/event/summerjam-festival-in-cologne-2/
LOCATION:Fühlinger See.\, Cologne\, Germany
CATEGORIES:festival,Postponed
ATTACH;FMTTYPE=image/png:https://www.soundsofafrica.org/wp-content/uploads/2020/01/44775295_10161443352260179_8619745788202844160_n.png
END:VEVENT
END:VCALENDAR