BEGIN:VCALENDAR
VERSION:2.0
PRODID:-//Sounds of Africa - ECPv5.3.2.1//NONSGML v1.0//EN
CALSCALE:GREGORIAN
METHOD:PUBLISH
X-WR-CALNAME:Sounds of Africa
X-ORIGINAL-URL:https://www.soundsofafrica.org
X-WR-CALDESC:Events for Sounds of Africa
BEGIN:VTIMEZONE
TZID:Europe/London
BEGIN:DAYLIGHT
TZOFFSETFROM:+0000
TZOFFSETTO:+0100
TZNAME:BST
DTSTART:20200329T010000
END:DAYLIGHT
BEGIN:STANDARD
TZOFFSETFROM:+0100
TZOFFSETTO:+0000
TZNAME:GMT
DTSTART:20201025T010000
END:STANDARD
END:VTIMEZONE
BEGIN:VEVENT
DTSTART;TZID=Europe/London:20200508T190000
DTEND;TZID=Europe/London:20200508T230000
DTSTAMP:20260420T032055
CREATED:20200307T101320Z
LAST-MODIFIED:20200319T213648Z
UID:6686-1588964400-1588978800@www.soundsofafrica.org
SUMMARY:Stonebwoy UK Tour 2020
DESCRIPTION:Stonebwoy UK Tour 2020 \nStonebwoy\, is a Ghanaian Afropop\, dance hall and reggae singer. \nHe won the Best International Act: Africa category at the 2015 BET Awards and Artist of the Year at the 2015 Ghana Music Awards. \nHe is also a recipient of two billboard plaques. He is recognized as the king of reggae and dance hall artists in Africa \nMany Ghanaians recognize him as one of the leading Reggae and Dancehall artists in the country. \nStonebwoy UK Tour 2020 (London) For more info click here! \nStonebwoy (Manchester) For more info click here! \nStonebwoy (Birmingham) For more info click here! \nLastly\, stay up to date with all you need to know about African music at SOA\, right here. \n 
URL:https://www.soundsofafrica.org/event/stonebwoy-uk-tour-2020/
LOCATION:02 Academy Islington\, N1 Centre\, Angel Central\, 16 Parkfield Street\, London\, London\, N1 0PS\, United Kingdom
CATEGORIES:afrobeats,Tour
ATTACH;FMTTYPE=image/jpeg:https://www.soundsofafrica.org/wp-content/uploads/2020/03/stonebwoy.jpg
ORGANIZER;CN="Live%20Nation":MAILTO:info@livenation.co.uk
END:VEVENT
END:VCALENDAR