BEGIN:VCALENDAR
VERSION:2.0
PRODID:-//Sounds of Africa - ECPv5.3.2.1//NONSGML v1.0//EN
CALSCALE:GREGORIAN
METHOD:PUBLISH
X-WR-CALNAME:Sounds of Africa
X-ORIGINAL-URL:https://www.soundsofafrica.org
X-WR-CALDESC:Events for Sounds of Africa
BEGIN:VTIMEZONE
TZID:Europe/London
BEGIN:DAYLIGHT
TZOFFSETFROM:+0000
TZOFFSETTO:+0100
TZNAME:BST
DTSTART:20210328T010000
END:DAYLIGHT
BEGIN:STANDARD
TZOFFSETFROM:+0100
TZOFFSETTO:+0000
TZNAME:GMT
DTSTART:20211031T010000
END:STANDARD
END:VTIMEZONE
BEGIN:VEVENT
DTSTART;TZID=Europe/London:20210926T180000
DTEND;TZID=Europe/London:20210926T230000
DTSTAMP:20260419T234126
CREATED:20210719T182649Z
LAST-MODIFIED:20210719T183932Z
UID:10005-1632679200-1632697200@www.soundsofafrica.org
SUMMARY:Spinall Live in Concert UK
DESCRIPTION:Spinall Live in Concert UK \n Spinall\, one of the sort after DJ’s\, party-starters\, beat-droppers\, headliners not just in the African music scene but in the mainstream music scene\, will headline his solo concert at the Indigo @ The 02. \nLeading up to dropping his 5th studio album\, he released songs with the heavyweights in  Africa Music. \n“Dis Love” with Tiwa Savage and Wizkid\, “Every time” with Kranium\, and “Tonight” with Omah Lay\, all of which have had amazing success. He dropped his 5th studio album ‘Grace’ which was released on 11th December 2020. \n🎫 Tickets on sale from Friday (July 23rd)\n—\n📧 Sign up for updates – smade.co.uk \nLastly\, stay up to date with all you need to know about African music at SOA\, right here. \nSpinall Live in Concert UK \n  \n  \n  \n  \n  \n 
URL:https://www.soundsofafrica.org/event/spinall-live-in-concert-uk/
LOCATION:Indigo at The O₂\, 205 Peninsula Square\, Greenwich Peninsula\, London\, SE10 0ES\, United Kingdom
CATEGORIES:concert
ATTACH;FMTTYPE=image/png:https://www.soundsofafrica.org/wp-content/uploads/2021/07/screenshot-2021-07-19-at-19.00.24.png
ORGANIZER;CN="SMADE%20Entertainment":MAILTO:info@smade.co.uk
END:VEVENT
END:VCALENDAR