BEGIN:VCALENDAR
VERSION:2.0
PRODID:-//Sounds of Africa - ECPv5.3.2.1//NONSGML v1.0//EN
CALSCALE:GREGORIAN
METHOD:PUBLISH
X-WR-CALNAME:Sounds of Africa
X-ORIGINAL-URL:https://www.soundsofafrica.org
X-WR-CALDESC:Events for Sounds of Africa
BEGIN:VTIMEZONE
TZID:Europe/London
BEGIN:DAYLIGHT
TZOFFSETFROM:+0000
TZOFFSETTO:+0100
TZNAME:BST
DTSTART:20200329T010000
END:DAYLIGHT
BEGIN:STANDARD
TZOFFSETFROM:+0100
TZOFFSETTO:+0000
TZNAME:GMT
DTSTART:20201025T010000
END:STANDARD
END:VTIMEZONE
BEGIN:VEVENT
DTSTART;TZID=Europe/London:20200805T140000
DTEND;TZID=Europe/London:20200805T230000
DTSTAMP:20260424T095017
CREATED:20200731T150117Z
LAST-MODIFIED:20200806T200731Z
UID:7492-1596636000-1596668400@www.soundsofafrica.org
SUMMARY:SMADE Shisha in Enish Restaurant
DESCRIPTION:Smade Shisha Event launched on the 5th of August; there was a performance from the talented P- Star (Prizeless- Star The Sax Guy) and music from an in house Dj who caters to everyone’s taste in music. \nSmade Shisha Event is located at ENISH restaurant in Lewisham. \nThe venue has a very stylish indoor & outdoor seating area perfect for a sunny day. \nSo\, if you are looking for a chilled enjoyable ambience to spend time with your friends & family\, Smade Shisha Event is the place to be. Expect some great food catered by Enish\, music\, games & Shisha every day. \nFor more information\, check out @SmadeEvents on Instagram. \nLastly\, stay up to date with all you need to know about African music at SOA\, right here. \n 
URL:https://www.soundsofafrica.org/event/smade-shisha-in-enish-restaurant/2020-08-05/
LOCATION:Enish Restaurant\, 228 Lewisham High St\, Lewisham\, London\, SE13 6JU\, United Kingdom
CATEGORIES:event,Event
ATTACH;FMTTYPE=image/jpeg:https://www.soundsofafrica.org/wp-content/uploads/2020/07/smade-shisha-1.jpg
ORGANIZER;CN="SMADE%20Entertainment":MAILTO:info@smade.co.uk
END:VEVENT
END:VCALENDAR