BEGIN:VCALENDAR
VERSION:2.0
PRODID:-//Sounds of Africa - ECPv5.3.2.1//NONSGML v1.0//EN
CALSCALE:GREGORIAN
METHOD:PUBLISH
X-WR-CALNAME:Sounds of Africa
X-ORIGINAL-URL:https://www.soundsofafrica.org
X-WR-CALDESC:Events for Sounds of Africa
BEGIN:VTIMEZONE
TZID:Europe/London
BEGIN:DAYLIGHT
TZOFFSETFROM:+0000
TZOFFSETTO:+0100
TZNAME:BST
DTSTART:20220327T010000
END:DAYLIGHT
BEGIN:STANDARD
TZOFFSETFROM:+0100
TZOFFSETTO:+0000
TZNAME:GMT
DTSTART:20221030T010000
END:STANDARD
END:VTIMEZONE
BEGIN:VEVENT
DTSTART;TZID=Europe/London:20220121T180000
DTEND;TZID=Europe/London:20220128T030000
DTSTAMP:20260419T234242
CREATED:20220121T141839Z
LAST-MODIFIED:20220121T142556Z
UID:11562-1642788000-1643338800@www.soundsofafrica.org
SUMMARY:Smade Lounge
DESCRIPTION:SMADE Entertainment\, one of the leading UK based Afrobeat’s music\, live entertainment and lifestyle promotions companies within Europe which was born out of the drive and passion for African culture and entertainment\, opened a new afro-centric venue called Smade Lounge. \nIt is a new afro-centric venue serving the finest signature cocktails and a selection of tasty African meals in East London. \nSo\, if you are looking for a chilled enjoyable ambience to spend time with your friends & family\, Smade Lounge is the place to be. \nOpens Every Day – 18:00PM – 03:00AM \n2021 saw Smade Lounge host Pricesswonda’s listening party\, Blackbonez’ album playback event\, Kidi\, Kuami Eugene\, Obi Cubana\, Cassper Nyovest\, Davido\, Ntosh Gazi\, Buju\, Zlatan\, Mayorkun have all partied here and many more. The venue serves the community as it remains a home for African music by Africans! \nLastly\, stay up to date with all you need to know about African music at SOA\, right here.
URL:https://www.soundsofafrica.org/event/smade-lounge/2022-01-21/
LOCATION:Smade Lounge\, 284-294 Ley St\,\, Ilford\, IG1 4BS\, United Kingdom
CATEGORIES:Clubbing,Clubbing Concert,Night Club
ATTACH;FMTTYPE=image/jpeg:https://www.soundsofafrica.org/wp-content/uploads/2022/01/img_4046.jpg
ORGANIZER;CN="SMADE%20Entertainment":MAILTO:info@smade.co.uk
END:VEVENT
END:VCALENDAR