BEGIN:VCALENDAR
VERSION:2.0
PRODID:-//Sounds of Africa - ECPv5.3.2.1//NONSGML v1.0//EN
CALSCALE:GREGORIAN
METHOD:PUBLISH
X-WR-CALNAME:Sounds of Africa
X-ORIGINAL-URL:https://www.soundsofafrica.org
X-WR-CALDESC:Events for Sounds of Africa
BEGIN:VTIMEZONE
TZID:Europe/London
BEGIN:DAYLIGHT
TZOFFSETFROM:+0000
TZOFFSETTO:+0100
TZNAME:BST
DTSTART:20200329T010000
END:DAYLIGHT
BEGIN:STANDARD
TZOFFSETFROM:+0100
TZOFFSETTO:+0000
TZNAME:GMT
DTSTART:20201025T010000
END:STANDARD
END:VTIMEZONE
BEGIN:VEVENT
DTSTART;TZID=Europe/London:20200308T193000
DTEND;TZID=Europe/London:20200308T230000
DTSTAMP:20260420T012847
CREATED:20200204T093319Z
LAST-MODIFIED:20200204T103322Z
UID:6313-1583695800-1583708400@www.soundsofafrica.org
SUMMARY:Singer King Promise UK Concert
DESCRIPTION:Singer King Promise UK Concert \nGhana music scene has in recent times witnessed a sudden bloom of amazing talents. \nFrom rappers and singers to producers. One of these extraordinarily talented musicians happens to be Ghanaian born Singer/Songwriter by the name “KING PROMISE”. \nHis artistic name is derived from his actual name ‘Gregory Promise Bortey Newman”. \nHe released his much anticipated single ‘Thank God’ which featured Fuse ODG and produced by Killbeatz in 2016. \nThe budding talent considers himself as a versatile artist\, who falls in the Afrobeats\, HighLife\, R&B and Hip-Hop genres. \nHe is gradually building a brand allowing him to have longevity in this industry\, in turn\, certifying Ghanaians to be conversant with his style of music. \nHis body of work includes hits like Tokyo\, CCTV\, Commando\, Your Number and he has colloborated with talented artists such as Wizkid\, Sarkodie\, Mr Eazi\, Joey B\, Stonebwoy. \nSinger King Promise UK Concert  For more info click here! \nLastly\, stay up to date with all you need to know about African music at SOA\, right here. \n 
URL:https://www.soundsofafrica.org/event/singer-king-promise-uk-concert/
LOCATION:Scala\, 275 Pentonville Rd\, London\, London\, N1 9NL\, United Kingdom
CATEGORIES:afrobeats,concert
ATTACH;FMTTYPE=image/jpeg:https://www.soundsofafrica.org/wp-content/uploads/2020/02/king-promise.jpg
END:VEVENT
END:VCALENDAR