BEGIN:VCALENDAR
VERSION:2.0
PRODID:-//Sounds of Africa - ECPv5.3.2.1//NONSGML v1.0//EN
CALSCALE:GREGORIAN
METHOD:PUBLISH
X-WR-CALNAME:Sounds of Africa
X-ORIGINAL-URL:https://www.soundsofafrica.org
X-WR-CALDESC:Events for Sounds of Africa
BEGIN:VTIMEZONE
TZID:Europe/London
BEGIN:DAYLIGHT
TZOFFSETFROM:+0000
TZOFFSETTO:+0100
TZNAME:BST
DTSTART:20190331T010000
END:DAYLIGHT
BEGIN:STANDARD
TZOFFSETFROM:+0100
TZOFFSETTO:+0000
TZNAME:GMT
DTSTART:20191027T010000
END:STANDARD
END:VTIMEZONE
BEGIN:VEVENT
DTSTART;TZID=Europe/London:20191218T180000
DTEND;TZID=Europe/London:20191218T230000
DTSTAMP:20260420T071938
CREATED:20200123T194338Z
LAST-MODIFIED:20200123T204701Z
UID:5855-1576692000-1576710000@www.soundsofafrica.org
SUMMARY:SEYI SODIMU'S CROWN & SEXY EXPERIENCE
DESCRIPTION:One of the pioneers of new Nigeria music — Afrobeats — Seyi Sodimu is set to stage a concert tagged: Seyi Sodimu’s Grown and Sexy Experience. The event holds at the Eko Hotel Expo Hall\, Lagos on Wednesday\, December 18\, 2019. \nThe concert will also feature Joe\, an American RnB star. Joe’s career has lasted decades and has earned him seven Grammy nominations and an ASCAP award to mention a few. He is the crooner of the hit song\, I Wanna Know.
URL:https://www.soundsofafrica.org/event/seyi-sodimus-crown-sexy-experience-2/
LOCATION:Eko Hotel\, 1415 Adetokunbo Ademola Street\, Victoria Island\, Lagos\, Nigeria\, Lagos\, Nigeria
CATEGORIES:afrobeats,concert
ATTACH;FMTTYPE=image/jpeg:https://www.soundsofafrica.org/wp-content/uploads/2019/12/img_c08d2dc3e80c-1.jpeg
END:VEVENT
END:VCALENDAR