BEGIN:VCALENDAR
VERSION:2.0
PRODID:-//Sounds of Africa - ECPv5.3.2.1//NONSGML v1.0//EN
CALSCALE:GREGORIAN
METHOD:PUBLISH
X-WR-CALNAME:Sounds of Africa
X-ORIGINAL-URL:https://www.soundsofafrica.org
X-WR-CALDESC:Events for Sounds of Africa
BEGIN:VTIMEZONE
TZID:Europe/London
BEGIN:DAYLIGHT
TZOFFSETFROM:+0000
TZOFFSETTO:+0100
TZNAME:BST
DTSTART:20210328T010000
END:DAYLIGHT
BEGIN:STANDARD
TZOFFSETFROM:+0100
TZOFFSETTO:+0000
TZNAME:GMT
DTSTART:20211031T010000
END:STANDARD
END:VTIMEZONE
BEGIN:VEVENT
DTSTART;TZID=Europe/London:20210908T190000
DTEND;TZID=Europe/London:20210923T230000
DTSTAMP:20260420T042900
CREATED:20210717T220309Z
LAST-MODIFIED:20210717T220507Z
UID:9965-1631127600-1632438000@www.soundsofafrica.org
SUMMARY:Sauti Sol - UK Summer Residency
DESCRIPTION:Sauti Sol – UK Summer Residency \nThe award-winning afro-pop band Sauti Sol hailing from Nairobi\, Kenya touch down in the UK for a run of intimate shows this September. \nLong time friends Polycarp Otieno\, Savara Mudigi\, Willis Chimano and Bien-Aime Baraza have cemented their place as one of the continent’s leading bands\, and their upward trajectory fuelled by their ‘church of good vibes’ ethos is quickly winning them fans all over the world. \nHit collaborations with the likes of Wizkid\, India. Arie and Sho Madjozi have brought the band worldwide acclaim and tickets for these dates are in extremely limited supply. \nThey released their first single off their album in 2020\, ‘Suzanna’. “Suzanna” tackles the controversial phenomenon of sponsors/blessers and released their fifth studio album\, MIDNIGHT TRAIN \nPre-sale tickets are on sale Tuesday 20th July at 10 am. \nGeneral sale on Wednesday 21st July at 10 am. \nExtremely limited early bird tickets will be available for those that sign up. \nSign up for access to the pre-sale.  \nLastly\, stay up to date with all you need to know about African music at SOA\, right here. \nSauti Sol – UK Summer Residency \n 
URL:https://www.soundsofafrica.org/event/sauti-sol-uk-summer-residency/
CATEGORIES:Tour
ATTACH;FMTTYPE=image/png:https://www.soundsofafrica.org/wp-content/uploads/2021/07/screenshot-2021-07-17-at-22.28.43.png
END:VEVENT
END:VCALENDAR