BEGIN:VCALENDAR
VERSION:2.0
PRODID:-//Sounds of Africa - ECPv5.3.2.1//NONSGML v1.0//EN
CALSCALE:GREGORIAN
METHOD:PUBLISH
X-WR-CALNAME:Sounds of Africa
X-ORIGINAL-URL:https://www.soundsofafrica.org
X-WR-CALDESC:Events for Sounds of Africa
BEGIN:VTIMEZONE
TZID:Europe/London
BEGIN:DAYLIGHT
TZOFFSETFROM:+0000
TZOFFSETTO:+0100
TZNAME:BST
DTSTART:20230326T010000
END:DAYLIGHT
BEGIN:STANDARD
TZOFFSETFROM:+0100
TZOFFSETTO:+0000
TZNAME:GMT
DTSTART:20231029T010000
END:STANDARD
END:VTIMEZONE
BEGIN:VEVENT
DTSTART;TZID=Europe/London:20230616T080000
DTEND;TZID=Europe/London:20230701T170000
DTSTAMP:20260420T050732
CREATED:20230303T220842Z
LAST-MODIFIED:20230303T221211Z
UID:13017-1686902400-1688230800@www.soundsofafrica.org
SUMMARY:Sauti Sol Europe 2023 Tour
DESCRIPTION:Sauti Sol Europe 2023 Tour \n When you gaze around the room\, and you see all the faces of every race and gender beaming\, we mean smiling with eyes transfixed\, enjoying the vibe\, not worrying about their “two-step” or the sweat rolling down their face\, you will notice that every face was transfixed to the movement that is Sauti Sol\, according to the review of their 2021 UK Tour. Special dates to remember they will be performing in the UK @iconic Indigo 02 on 21st June 2023 and performing at Afronation Festival Portugal 2023 \nSauti Sol is an award-winning afro-pop group from Kenya\, crowned Best Group (Africa) at the MTV Africa Music Awards (2016 MTV MAMA)\, 2016 Soundcity MTV Awards and African Muzik Magazine Awards ( 2016 AFRIMMA). \nThey also won Best African Group at the All Africa Music Awards (2015 AFRIMA) and an MTV EMA Award for Best African Act in 2014. \nComprising Bien-Aime Baraza\, Willis Austin Chimano\, Polycarp Otieno and Savara Mudigi\, the group mixes their soulful voices with vocal harmonies\, guitar riffs and drum rhythm. \nSauti Sol blends warm\, resonant pop with traditional Kenyan influences. \nTheir mélange of energetic rhythms has promoted the group to become one of Africa’s most celebrated and East Africa’s pioneers of a fresh sound that has inspired the sprouting of many other bands from East Africa. \nIn 2016 Sauti Sol made history by being the first Kenyan artistes to run a successful and professional nationwide tour. \nThey released the first official single of their album in 2020\, ‘Suzanna’. “Suzanna” tackles the controversial phenomenon of sponsors/blessers and releases their fifth studio album\, MIDNIGHT TRAIN. \nWith their clever\, irreverent lyrics and sharp wit\, they poke fun at a woman who is a beneficiary of the champagne life sponsored by an older man. \nSauti Sol Europe 2023 Tour For more info\, click here! \nStay updated with all you need about African music at SOA right here. \nList of the tour dates below
URL:https://www.soundsofafrica.org/event/sauti-sol-europe-2023-tour/
CATEGORIES:Tour
ATTACH;FMTTYPE=image/jpeg:https://www.soundsofafrica.org/wp-content/uploads/2021/10/sauti-sol-23.jpg
END:VEVENT
END:VCALENDAR