BEGIN:VCALENDAR
VERSION:2.0
PRODID:-//Sounds of Africa - ECPv5.3.2.1//NONSGML v1.0//EN
CALSCALE:GREGORIAN
METHOD:PUBLISH
X-WR-CALNAME:Sounds of Africa
X-ORIGINAL-URL:https://www.soundsofafrica.org
X-WR-CALDESC:Events for Sounds of Africa
BEGIN:VTIMEZONE
TZID:Europe/London
BEGIN:DAYLIGHT
TZOFFSETFROM:+0000
TZOFFSETTO:+0100
TZNAME:BST
DTSTART:20200329T010000
END:DAYLIGHT
BEGIN:STANDARD
TZOFFSETFROM:+0100
TZOFFSETTO:+0000
TZNAME:GMT
DTSTART:20201025T010000
END:STANDARD
END:VTIMEZONE
BEGIN:VEVENT
DTSTART;TZID=Europe/London:20200429T180000
DTEND;TZID=Europe/London:20200429T220000
DTSTAMP:20260422T190954
CREATED:20200202T223429Z
LAST-MODIFIED:20200202T223429Z
UID:6283-1588183200-1588197600@www.soundsofafrica.org
SUMMARY:SALIF KEIUMLTA CONCERT IN FRANCE
DESCRIPTION:Salif Keïta is an afro-pop singer-songwriter from Mali. \nHe is notable not only because of his reputation as the ‘Golden Voice of Africa’ but also because he has albinism. \nSalif Keita was cast out by his family and ostracized by the community because of his albinism\, a sign of bad luck in Mandinka culture. \nHe is a member of the Keita royal family of Mali. \nIn 2001\, Keita’s song ‘Tomorrow’ was featured in the biopic depicting the life of Muhammad Ali (played by Will Smith). \nFor remaining one of the true greats of African music for nearly half a century\, Salif Keita comes highly recommended. \nSALIF KEIUMLTA CONCERT IN FRANCE  For more info click here! \nLastly\, stay up to date with all you need to know about African music at SOA\, right here. \n 
URL:https://www.soundsofafrica.org/event/salif-keiumlta-concert-in-france-2/
LOCATION:6mic\, 160 Rue Pascal Duverger 13090\, Aix-en-Provence\, 13090\, France
CATEGORIES:festival
ATTACH;FMTTYPE=image/jpeg:https://www.soundsofafrica.org/wp-content/uploads/2020/01/salif_keita-241x300-1.jpeg
END:VEVENT
END:VCALENDAR