BEGIN:VCALENDAR
VERSION:2.0
PRODID:-//Sounds of Africa - ECPv5.3.2.1//NONSGML v1.0//EN
CALSCALE:GREGORIAN
METHOD:PUBLISH
X-WR-CALNAME:Sounds of Africa
X-ORIGINAL-URL:https://www.soundsofafrica.org
X-WR-CALDESC:Events for Sounds of Africa
BEGIN:VTIMEZONE
TZID:Europe/London
BEGIN:DAYLIGHT
TZOFFSETFROM:+0000
TZOFFSETTO:+0100
TZNAME:BST
DTSTART:20190331T010000
END:DAYLIGHT
BEGIN:STANDARD
TZOFFSETFROM:+0100
TZOFFSETTO:+0000
TZNAME:GMT
DTSTART:20191027T010000
END:STANDARD
END:VTIMEZONE
BEGIN:VEVENT
DTSTART;TZID=Europe/London:20191116T180000
DTEND;TZID=Europe/London:20191116T230000
DTSTAMP:20260420T014425
CREATED:20200123T183231Z
LAST-MODIFIED:20200123T204924Z
UID:5831-1573927200-1573945200@www.soundsofafrica.org
SUMMARY:Reggae Afrobeats Jam rock 2019
DESCRIPTION:Award-winning International music sensation\, Stefflon Don is set to headline her first concert in Las Gidi\, the city that never sleeps. GidiGroove Entertainment in conjunction with XchangeNg presents the Reggae Afrobeat Jamrock concert 2019. \nOn the 16th of November 2019\, the “Hurtin’ Me” crooner will be shutting it down at the Landmark beachfront in Oniru\, Lagos. There will be special performances from some of the biggest Aftobeats superstars\, at the event. \nThere will also be attractions like Jetskis\, PaintBalling\, ATVs(Quad Bikes) alongside a retail market… Tickets are selling fast on Nairabox and Xchange.Ng. Regular tickets are going for N3\,000 and VIP tickets are going for N7\,000 cabanas and Premium cabanas for N500k and N1m respectively … Get ready for the best of Afrobeats and Reggae infused into one night. This event is supported by Notjustok\, Soundcity\, FC ENT and PR\, MTVBase\, TRACE\, and LIFE IS A BEACH. \nFor sponsorship and booking inquiries please contact +234 705 660 3642.
URL:https://www.soundsofafrica.org/event/reggae-afrobeats-jam-rock-2019-2/
LOCATION:Landmark Event Centre\, Plot 2 & 3\, Water Corporation Dr\, Victoria Island\, Annex\, Nigeria\, Lagos\, Nigeria
CATEGORIES:afrobeats,concert
ATTACH;FMTTYPE=image/jpeg:https://www.soundsofafrica.org/wp-content/uploads/2019/10/72617082_2588758637814073_870168422938312704_o.jpg
END:VEVENT
END:VCALENDAR