BEGIN:VCALENDAR
VERSION:2.0
PRODID:-//Sounds of Africa - ECPv5.3.2.1//NONSGML v1.0//EN
CALSCALE:GREGORIAN
METHOD:PUBLISH
X-WR-CALNAME:Sounds of Africa
X-ORIGINAL-URL:https://www.soundsofafrica.org
X-WR-CALDESC:Events for Sounds of Africa
BEGIN:VTIMEZONE
TZID:Europe/London
BEGIN:DAYLIGHT
TZOFFSETFROM:+0000
TZOFFSETTO:+0100
TZNAME:BST
DTSTART:20190331T010000
END:DAYLIGHT
BEGIN:STANDARD
TZOFFSETFROM:+0100
TZOFFSETTO:+0000
TZNAME:GMT
DTSTART:20191027T010000
END:STANDARD
END:VTIMEZONE
BEGIN:VEVENT
DTSTART;TZID=Europe/London:20191030T220000
DTEND;TZID=Europe/London:20191030T220000
DTSTAMP:20260420T044653
CREATED:20200118T152316Z
LAST-MODIFIED:20200123T173341Z
UID:5592-1572472800-1572472800@www.soundsofafrica.org
SUMMARY:Quilox Night Club
DESCRIPTION:Club Quilox is a luxurious style nightclub in Victoria Island\, Lagos. Club Quilox also operates a restaurant and bar.It opened in 2013\, as one of the biggest and most expensive nightclubs in Nigeria. \nFuthermore\, Quilox is your one-stop hub for grand relaxation and nightlife activity and moments that leave you asking for more. A popular hang out for celebrities. \nMoreover\, For up-to-date information\, please see their WEBSITE. \nLastly\, CLICK TO SEE MORE EVENTS
URL:https://www.soundsofafrica.org/event/quilox-night-club-2/
LOCATION:Quilox\, 873 Ozumba Mbadiwe Avenue Victoria Island\, Lagos\, Nigeria
CATEGORIES:concert
ATTACH;FMTTYPE=image/jpeg:https://www.soundsofafrica.org/wp-content/uploads/2019/10/quilox.jpg
END:VEVENT
END:VCALENDAR