BEGIN:VCALENDAR
VERSION:2.0
PRODID:-//Sounds of Africa - ECPv5.3.2.1//NONSGML v1.0//EN
CALSCALE:GREGORIAN
METHOD:PUBLISH
X-WR-CALNAME:Sounds of Africa
X-ORIGINAL-URL:https://www.soundsofafrica.org
X-WR-CALDESC:Events for Sounds of Africa
BEGIN:VTIMEZONE
TZID:Europe/London
BEGIN:DAYLIGHT
TZOFFSETFROM:+0000
TZOFFSETTO:+0100
TZNAME:BST
DTSTART:20190331T010000
END:DAYLIGHT
BEGIN:STANDARD
TZOFFSETFROM:+0100
TZOFFSETTO:+0000
TZNAME:GMT
DTSTART:20191027T010000
END:STANDARD
END:VTIMEZONE
BEGIN:VEVENT
DTSTART;TZID=Europe/London:20191030T220000
DTEND;TZID=Europe/London:20191030T220000
DTSTAMP:20260420T025443
CREATED:20200118T152316Z
LAST-MODIFIED:20200123T173254Z
UID:5590-1572472800-1572472800@www.soundsofafrica.org
SUMMARY:Pablo by Cubana
DESCRIPTION:Cubana Lagos is one of the most popular luxury nightlife destinations in Lagos\, Nigeria.Cubana Lagos offers different services such as indoor – outdoor dining experience\, contemporary traditional open – air bar branded as Cubana Hut ‘n’ Grill. \nBut it’s club service\, Club Pablo is a luxury night club with international repute. \nThe Vanguard Newspaper (online) 2018 states that Cubana Lagos has become the beloved place of fun and networking for the creme de la creme of the society spanning all sphere of human endeavors. \nMoreover\, For up-to-date information\, please see their WEBSITE \nLastly\, CLICK TO SEE MORE EVENTS
URL:https://www.soundsofafrica.org/event/pablo-by-cubana-3/
LOCATION:Pablo by Cubana\, 17 Adeola Odeku St\, Opebi\, Lagos\, Nigeria\, Lagos\, Nigeria
CATEGORIES:Clubbing
ATTACH;FMTTYPE=image/jpeg:https://www.soundsofafrica.org/wp-content/uploads/2019/10/cubana-pablo-300x300.jpg
END:VEVENT
END:VCALENDAR