BEGIN:VCALENDAR
VERSION:2.0
PRODID:-//Sounds of Africa - ECPv5.3.2.1//NONSGML v1.0//EN
CALSCALE:GREGORIAN
METHOD:PUBLISH
X-WR-CALNAME:Sounds of Africa
X-ORIGINAL-URL:https://www.soundsofafrica.org
X-WR-CALDESC:Events for Sounds of Africa
BEGIN:VTIMEZONE
TZID:Europe/London
BEGIN:DAYLIGHT
TZOFFSETFROM:+0000
TZOFFSETTO:+0100
TZNAME:BST
DTSTART:20190331T010000
END:DAYLIGHT
BEGIN:STANDARD
TZOFFSETFROM:+0100
TZOFFSETTO:+0000
TZNAME:GMT
DTSTART:20191027T010000
END:STANDARD
END:VTIMEZONE
BEGIN:VEVENT
DTSTART;TZID=Europe/London:20191006T180000
DTEND;TZID=Europe/London:20191006T230000
DTSTAMP:20260420T023746
CREATED:20200123T175404Z
LAST-MODIFIED:20200123T175601Z
UID:5822-1570384800-1570402800@www.soundsofafrica.org
SUMMARY:Olamide in Concert
DESCRIPTION:Live Nation & Smade Entertainment Presents\nOlamide\nPlus FIREBOY\, DML\, LIL KESH\, DJ ENIMONEY \nO2 Priority pre-sale – Wednesday 16th January 2019 at 9am\nGeneral on-sale – Friday 18th January 2019 at 9am \nMinimum Age Restriction: No under 8’s. Under 14’s with an adult 18+ and seated in the balcony \nDoors 7pm\nCurfew 11pm \nSet times and supports to be announced closer to the date.
URL:https://www.soundsofafrica.org/event/olamide-in-concert/
LOCATION:02 Academy Brixton\, 211 Stockwell Rd\, Brixton\, London\, London\, SW9 9SL\, United Kingdom
CATEGORIES:concert,festival
ATTACH;FMTTYPE=image/jpeg:https://www.soundsofafrica.org/wp-content/uploads/2019/09/olamide.jpeg
END:VEVENT
END:VCALENDAR