BEGIN:VCALENDAR
VERSION:2.0
PRODID:-//Sounds of Africa - ECPv5.3.2.1//NONSGML v1.0//EN
CALSCALE:GREGORIAN
METHOD:PUBLISH
X-WR-CALNAME:Sounds of Africa
X-ORIGINAL-URL:https://www.soundsofafrica.org
X-WR-CALDESC:Events for Sounds of Africa
BEGIN:VTIMEZONE
TZID:Europe/London
BEGIN:DAYLIGHT
TZOFFSETFROM:+0000
TZOFFSETTO:+0100
TZNAME:BST
DTSTART:20200329T010000
END:DAYLIGHT
BEGIN:STANDARD
TZOFFSETFROM:+0100
TZOFFSETTO:+0000
TZNAME:GMT
DTSTART:20201025T010000
END:STANDARD
END:VTIMEZONE
BEGIN:VEVENT
DTSTART;TZID=Europe/London:20200725T120000
DTEND;TZID=Europe/London:20200725T220000
DTSTAMP:20260422T133018
CREATED:20200204T020729Z
LAST-MODIFIED:20200627T104805Z
UID:6305-1595678400-1595714400@www.soundsofafrica.org
SUMMARY:Naked City Festival 2020 *Postponed*
DESCRIPTION:Naked City Festival 2020 \nNaked City returns to the beautiful undulating parkland of Beckenham Place Park on Saturday 25th July 2020. \nA one-day festival with a backyard feel and a bracing line-up\, bringing together a broad spectrum of music lovers to celebrate how London makes you feel. \nHosting London’s finest street food vendors and a wide selection of cocktails\, craft beers and wines. \nThey are a friendly family festival! They will be hosting a kids area with an immersive theatre\, walkabout\, storytelling\, face paintings\, play installations and much more. \nFuthermore\, Seun Kuti & Egypt 80\, Tony Allen\, Awesome Tapes From Africa are performing at the festival \nNaked City Festival 2020 For more info click here! \nLastly\, stay up to date with all you need to know about African music at SOA\, right here. \n 
URL:https://www.soundsofafrica.org/event/naked-city-festival-2020/
LOCATION:Beckenham Place Park\, Beckenham Hill Rd\,\, London\, BR35BS\, United Kingdom
CATEGORIES:afrobeat,festival,Postponed
ATTACH;FMTTYPE=image/jpeg:https://www.soundsofafrica.org/wp-content/uploads/2019/10/seun-kuti-12.jpg
END:VEVENT
END:VCALENDAR