BEGIN:VCALENDAR
VERSION:2.0
PRODID:-//Sounds of Africa - ECPv5.3.2.1//NONSGML v1.0//EN
CALSCALE:GREGORIAN
METHOD:PUBLISH
X-WR-CALNAME:Sounds of Africa
X-ORIGINAL-URL:https://www.soundsofafrica.org
X-WR-CALDESC:Events for Sounds of Africa
BEGIN:VTIMEZONE
TZID:Europe/London
BEGIN:DAYLIGHT
TZOFFSETFROM:+0000
TZOFFSETTO:+0100
TZNAME:BST
DTSTART:20190331T010000
END:DAYLIGHT
BEGIN:STANDARD
TZOFFSETFROM:+0100
TZOFFSETTO:+0000
TZNAME:GMT
DTSTART:20191027T010000
END:STANDARD
END:VTIMEZONE
BEGIN:VEVENT
DTSTART;TZID=Europe/London:20191117T180000
DTEND;TZID=Europe/London:20191117T230000
DTSTAMP:20260420T013506
CREATED:20200123T183917Z
LAST-MODIFIED:20200123T205200Z
UID:5834-1574013600-1574031600@www.soundsofafrica.org
SUMMARY:Mr Eazi UK Tour (London)
DESCRIPTION:Mr Eazi has certainly had a tremendous year\, gaining new fans daily who are loving the unique sounds he delivers in a cool\, calm and easy fashion.  His memorable hooks over traditional instrumental sounds have helped him to gain the attention of mainstream audiences and he is now hailed as one of Africa’s hottest new talents.  His global fan base is actively expanding throughout Africa\, Europe\, the Americas\, Asia and the Middle East.  Mr Eazi returns to the UK off the back of a smoking hot tour of America so his fans up and down the country are preparing to bubble up\, dab down and ‘detty’ themselves in a town or city near you.
URL:https://www.soundsofafrica.org/event/mr-eazi-uk-tour-london/
LOCATION:02 Academy Brixton\, 211 Stockwell Rd\, Brixton\, London\, London\, SW9 9SL\, United Kingdom
CATEGORIES:afrobeats,concert
ATTACH;FMTTYPE=image/jpeg:https://www.soundsofafrica.org/wp-content/uploads/2019/10/72634509_2469063240049325_7431649123264327814_n.jpg
END:VEVENT
END:VCALENDAR