BEGIN:VCALENDAR
VERSION:2.0
PRODID:-//Sounds of Africa - ECPv5.3.2.1//NONSGML v1.0//EN
CALSCALE:GREGORIAN
METHOD:PUBLISH
X-WR-CALNAME:Sounds of Africa
X-ORIGINAL-URL:https://www.soundsofafrica.org
X-WR-CALDESC:Events for Sounds of Africa
BEGIN:VTIMEZONE
TZID:Europe/London
BEGIN:DAYLIGHT
TZOFFSETFROM:+0000
TZOFFSETTO:+0100
TZNAME:BST
DTSTART:20190331T010000
END:DAYLIGHT
BEGIN:STANDARD
TZOFFSETFROM:+0100
TZOFFSETTO:+0000
TZNAME:GMT
DTSTART:20191027T010000
END:STANDARD
END:VTIMEZONE
BEGIN:VEVENT
DTSTART;TZID=Europe/London:20191213T183000
DTEND;TZID=Europe/London:20191215T230000
DTSTAMP:20260420T034552
CREATED:20200123T190414Z
LAST-MODIFIED:20200123T190511Z
UID:5847-1576261800-1576450800@www.soundsofafrica.org
SUMMARY:Mayorkun at Mayor of Lagos Fest
DESCRIPTION:Fresh from a sold-out headline concert at the Indigo at the O2 in London\, Nigeria’s favorite Pop Prince Mayorkun is set to take it a notch higher this Detty December as he prepars a 3-day special for his fans titled the “TMOL Fest 2019″. \nDate: Friday\, December 13th\, 2019\nVenue: XVII Glover in Ikoyi & Ikeja City Mall\, Muri Okunola Park in Victoria Island \nDate: Saturday\, December 14th\, 2019\nVenue: Muri Okunola Park in Victoria Island \nDate: Sunday\, December 15th\, 2019\nVenue: Private Beach House
URL:https://www.soundsofafrica.org/event/mayorkun-at-mayor-of-lagos-fest-2/
LOCATION:Muri Okunola Park\, Ozumba Mbadiwe Rd\, Eti-Osa\, Lagos\, Nigeria
CATEGORIES:afrobeat,concert
ATTACH;FMTTYPE=image/jpeg:https://www.soundsofafrica.org/wp-content/uploads/2020/01/the-mayor-of-lagos-fest-top-50-charts.jpg
END:VEVENT
END:VCALENDAR