BEGIN:VCALENDAR
VERSION:2.0
PRODID:-//Sounds of Africa - ECPv5.3.2.1//NONSGML v1.0//EN
CALSCALE:GREGORIAN
METHOD:PUBLISH
X-WR-CALNAME:Sounds of Africa
X-ORIGINAL-URL:https://www.soundsofafrica.org
X-WR-CALDESC:Events for Sounds of Africa
BEGIN:VTIMEZONE
TZID:Europe/London
BEGIN:DAYLIGHT
TZOFFSETFROM:+0000
TZOFFSETTO:+0100
TZNAME:BST
DTSTART:20190331T010000
END:DAYLIGHT
BEGIN:STANDARD
TZOFFSETFROM:+0100
TZOFFSETTO:+0000
TZNAME:GMT
DTSTART:20191027T010000
END:STANDARD
END:VTIMEZONE
BEGIN:VEVENT
DTSTART;TZID=Europe/London:20191221T190000
DTEND;TZID=Europe/London:20191222T010000
DTSTAMP:20260420T090407
CREATED:20200118T152312Z
LAST-MODIFIED:20200123T170321Z
UID:5586-1576954800-1576976400@www.soundsofafrica.org
SUMMARY:MADE IN TAADI CONCERT 3.0
DESCRIPTION:MADE IN TAADI CONCERT 3.0Made in Taadi Concert is a whole event well planned out to encourage young people. \nGhanaian children or youths worldwide relate to this event as there is much to gain. It is usually packed with entertainment and activities to support small businesses or growing talents. \nThere is a wide range of talented young people mixed with popularly known artists showcasing at this event such as KiDi. \nThis is the 3.0 edition and fans are looking forward to it. \nEspecially because of the previous TAADI experiences. 2018 had the likes of Sarkodie\, Pappy Kojo and so on. \nThis year\, Successful Entrepreneur and Organiser Kofi Kinaata has a few tricks up his sleeves and has announced through his social media page @kinaatagh that the event will be nothing short but mind blowing. \nAll information on merchandise\, media\, tickets or reservations could be gotten through his page. \nEvent will be taking place at Jubilee Grounds\, Takoradi on the 21st December 2019. There will be exhibition grounds at the event. To advertise products\, book by calling +233274788042\, +233241650059 \nPurchase (MADE IN TAADI CONCERT 3.0) your tickets now to enjoy this experience. \nLastly\, stay up to date with all you need to know about African music at  SOA\, right here.
URL:https://www.soundsofafrica.org/event/made-in-taadi-concert-3-0-2/
LOCATION:Jubilee Grounds\, Jubilee Grounds\, Takoradi\, Accra\, Ghana
CATEGORIES:festival
ATTACH;FMTTYPE=image/jpeg:https://www.soundsofafrica.org/wp-content/uploads/2019/12/ektsp42wwaeumsm.jpg
END:VEVENT
END:VCALENDAR