BEGIN:VCALENDAR
VERSION:2.0
PRODID:-//Sounds of Africa - ECPv5.3.2.1//NONSGML v1.0//EN
CALSCALE:GREGORIAN
METHOD:PUBLISH
X-WR-CALNAME:Sounds of Africa
X-ORIGINAL-URL:https://www.soundsofafrica.org
X-WR-CALDESC:Events for Sounds of Africa
BEGIN:VTIMEZONE
TZID:Europe/London
BEGIN:DAYLIGHT
TZOFFSETFROM:+0000
TZOFFSETTO:+0100
TZNAME:BST
DTSTART:20200329T010000
END:DAYLIGHT
BEGIN:STANDARD
TZOFFSETFROM:+0100
TZOFFSETTO:+0000
TZNAME:GMT
DTSTART:20201025T010000
END:STANDARD
END:VTIMEZONE
BEGIN:VEVENT
DTSTART;TZID=Europe/London:20200409T080000
DTEND;TZID=Europe/London:20200411T000000
DTSTAMP:20260422T210755
CREATED:20200211T155004Z
LAST-MODIFIED:20200321T222144Z
UID:6344-1586419200-1586563200@www.soundsofafrica.org
SUMMARY:Gidi culture festival 2020 *Postponed*
DESCRIPTION:Gidi culture festival 2020 \nGidi culture festival is a global African brand born in Lagos\, the epicenter of the African music movement. \nWith a global outlook\, Gidi Fest is a celebration of the progression of urban youth culture in Africa\, expressed through music\, food\, art\, games & travel. \nIt is a multi-day festival filled with live entertainment from a line-up of the best African and international acts\, ‘next-gen’ acts which include some of the best emerging artists\, parties hosted by the most progressive DJs\, experiential zones\, a diverse range of African food vendors and more. \nThis year’s headline artists are  DAY1 – The HANGOUT is REMA\, DAY2 – RHYTHM & SOUL is FLAVOUR\, DAY3 – GBE BODI E! IS NAIRA MARLEY \nGidi culture festival 2020 For more info click here! \nLastly\, stay up to date with all you need to know about African music at SOA\, right here.
URL:https://www.soundsofafrica.org/event/gidi-culture-festival-2020/
LOCATION:TBS Cricket Ground\, Tafawa Balewa Square\,\, Lagos Island\,\, Nigeria
CATEGORIES:festival,Postponed
ATTACH;FMTTYPE=image/jpeg:https://www.soundsofafrica.org/wp-content/uploads/2020/02/gidi-culture-festival-2020.jpeg
END:VEVENT
END:VCALENDAR