BEGIN:VCALENDAR
VERSION:2.0
PRODID:-//Sounds of Africa - ECPv5.3.2.1//NONSGML v1.0//EN
CALSCALE:GREGORIAN
METHOD:PUBLISH
X-WR-CALNAME:Sounds of Africa
X-ORIGINAL-URL:https://www.soundsofafrica.org
X-WR-CALDESC:Events for Sounds of Africa
BEGIN:VTIMEZONE
TZID:Europe/London
BEGIN:DAYLIGHT
TZOFFSETFROM:+0000
TZOFFSETTO:+0100
TZNAME:BST
DTSTART:20210328T010000
END:DAYLIGHT
BEGIN:STANDARD
TZOFFSETFROM:+0100
TZOFFSETTO:+0000
TZNAME:GMT
DTSTART:20211031T010000
END:STANDARD
END:VTIMEZONE
BEGIN:VEVENT
DTSTART;TZID=Europe/London:20210724T120000
DTEND;TZID=Europe/London:20210724T200000
DTSTAMP:20260422T153533
CREATED:20210710T220529Z
LAST-MODIFIED:20210710T220529Z
UID:9862-1627128000-1627156800@www.soundsofafrica.org
SUMMARY:Ghana Party in the Park 2021 Festival
DESCRIPTION:Ghana Party in the Park 2021 Festival \nGhana Party in the park is an annual outdoor festival held in London for the Ghanaian Community in the diaspora and the Biggest. Hosted by Akwaaba Group since 2005. The festival attracts over 8000 people\, making it the biggest Ghanaian event outside of Ghana. Attracting visitors from the UK\, Europe\, USA\, Canada and Ghana. \nPast performances include Mr Eazi\, Fuse ODG\, Maleek Berry\, Chip\, Kojo Funds\,WRETCH 32\, Tion Wayne\, Don E\, Sway\, Sarkodie\, Stonebwoy and more. \nGhana Party in the Park 2021 Festival For more info\, click here! \nLastly\, stay up to date with all you need to know about African music at SOA\, right here.
URL:https://www.soundsofafrica.org/event/ghana-party-in-the-park-2021-festival/
LOCATION:TRENT PARK\, Cockfosters Road London\,\, London\, EN4 0JY\, United Kingdom
CATEGORIES:festival
ATTACH;FMTTYPE=image/png:https://www.soundsofafrica.org/wp-content/uploads/2021/07/screenshot-2021-07-10-at-22.16.58.png
END:VEVENT
END:VCALENDAR