BEGIN:VCALENDAR
VERSION:2.0
PRODID:-//Sounds of Africa - ECPv5.3.2.1//NONSGML v1.0//EN
CALSCALE:GREGORIAN
METHOD:PUBLISH
X-WR-CALNAME:Sounds of Africa
X-ORIGINAL-URL:https://www.soundsofafrica.org
X-WR-CALDESC:Events for Sounds of Africa
BEGIN:VTIMEZONE
TZID:Europe/London
BEGIN:DAYLIGHT
TZOFFSETFROM:+0000
TZOFFSETTO:+0100
TZNAME:BST
DTSTART:20210328T010000
END:DAYLIGHT
BEGIN:STANDARD
TZOFFSETFROM:+0100
TZOFFSETTO:+0000
TZNAME:GMT
DTSTART:20211031T010000
END:STANDARD
END:VTIMEZONE
BEGIN:VEVENT
DTSTART;TZID=Europe/London:20210708T190000
DTEND;TZID=Europe/London:20210708T233000
DTSTAMP:20260420T045923
CREATED:20210708T133725Z
LAST-MODIFIED:20210708T134033Z
UID:9803-1625770800-1625787000@www.soundsofafrica.org
SUMMARY:Gbedu Thursdays #SMADEParties
DESCRIPTION:Gbedu Thursdays #SMADEParties \nSmade Entertainment is born out of the drive and passion for African Entertainment. It’s their ultimate dream to bring the very best in African entertainment to the United Kingdom and the rest of the World. \nThey do not only promote the very best in the African Entertainment industry but encourage those with the potential to live a snapshot of what could be their dream. \n\n\n\nGbedu Thursdays offer after-work relaxation + live band\, Lounge & Chill to Good music including AFROBEATS\, HIP-HOP\, AMAPIANO\, RnB\, BASHMENT\, OLDSCH & many  more\n\n\n\n\n\n\n\n  \n\nLots of board games (Connect 4 / Jenga / Playing Cards etc)\nFood served (Platters)\n\n🗓 Every Thursday⠀  Tickets \nNote – ⏰ 07:00PM – 12:00AM (last entry 9:00PM) \nDress code: Smart Casual \nNO ID NO ENTRY \n21+ \nLastly\, stay up to date with all you need to know about African music at SOA\, right here. \nGbedu Thursdays #SMADEParties
URL:https://www.soundsofafrica.org/event/gbedu-thursdays-smadeparties/
LOCATION:LA Lounge\,\, Bell Lane\, London\, E16 2AB\, United Kingdom
CATEGORIES:Live Band Event
ATTACH;FMTTYPE=image/png:https://www.soundsofafrica.org/wp-content/uploads/2021/07/screenshot-2021-07-08-at-14.20.57.png
ORGANIZER;CN="SMADE%20Entertainment":MAILTO:info@smade.co.uk
END:VEVENT
END:VCALENDAR