BEGIN:VCALENDAR
VERSION:2.0
PRODID:-//Sounds of Africa - ECPv5.3.2.1//NONSGML v1.0//EN
CALSCALE:GREGORIAN
METHOD:PUBLISH
X-WR-CALNAME:Sounds of Africa
X-ORIGINAL-URL:https://www.soundsofafrica.org
X-WR-CALDESC:Events for Sounds of Africa
BEGIN:VTIMEZONE
TZID:Europe/London
BEGIN:DAYLIGHT
TZOFFSETFROM:+0000
TZOFFSETTO:+0100
TZNAME:BST
DTSTART:20200329T010000
END:DAYLIGHT
BEGIN:STANDARD
TZOFFSETFROM:+0100
TZOFFSETTO:+0000
TZNAME:GMT
DTSTART:20201025T010000
END:STANDARD
END:VTIMEZONE
BEGIN:VEVENT
DTSTART;TZID=Europe/London:20200704T150000
DTEND;TZID=Europe/London:20200709T000000
DTSTAMP:20260420T033738
CREATED:20200204T005924Z
LAST-MODIFIED:20200627T105524Z
UID:6302-1593874800-1594252800@www.soundsofafrica.org
SUMMARY:Fresh Island Festival 2020 *Postponed*
DESCRIPTION:Fresh Island Festival 2020 \nFresh Island Festival was launched in 2012 and immediately reached an important spot in Europeans’ hearts\, being a must-see even in the summer. \nFamed for its sun-drenched vibes and poolside dancing\, the festival has formed into a full week hip hop/RnB & afrobeats holiday with pre and after parties\, pool parties and boat parties. \nFrom the very beginning\, Fresh Island has hosted some of the world’s biggest music stars. \nAll the way from NAS in the first festival year\, Snoop Dogg in 2013 to French Montana\, Chris Brown\, ASAP Rocky\, Sean Paul\, Kehlani to Stefflon Don & Burna Boy in 2019. \nBilled as Europe’s leading urban music festival\, this year’s event will be held from 4-9 July 2020 and mark Fresh Island’s 9th year of “hip-hop hedonism”. \nThe festival staying true to its mission statement of catering to every “urban music need” – lit up what\, for many\, would have been the first week of summer\, with a truly glittering array of R&B\, hip-hop & afrobeats. \nShould a few more festivals replicate the success of Fresh Island\, this summer might yet prove to be as memorable as the taste of Pag’s famous cheese. \nWizkid will be the headline artists. \nFresh Island Festival 2020 For more info click here! \nLastly\, stay up to date with all you need to know about African music at SOA\, right here.
URL:https://www.soundsofafrica.org/event/fresh-island-festival-2020/
LOCATION:Zrce  Beach\, Zrce Beach Plaža Zrće poštanska adresa: Zrce Beach\, 53291\, Novalja\, Croatia\, Croatia (Local Name: Hrvatska)
CATEGORIES:festival,Postponed
ATTACH;FMTTYPE=image/jpeg:https://www.soundsofafrica.org/wp-content/uploads/2014/02/wizkid-performs-live-at-the-royal-albert-hall-32.jpg
END:VEVENT
END:VCALENDAR