BEGIN:VCALENDAR
VERSION:2.0
PRODID:-//Sounds of Africa - ECPv5.3.2.1//NONSGML v1.0//EN
CALSCALE:GREGORIAN
METHOD:PUBLISH
X-WR-CALNAME:Sounds of Africa
X-ORIGINAL-URL:https://www.soundsofafrica.org
X-WR-CALDESC:Events for Sounds of Africa
BEGIN:VTIMEZONE
TZID:Europe/London
BEGIN:DAYLIGHT
TZOFFSETFROM:+0000
TZOFFSETTO:+0100
TZNAME:BST
DTSTART:20190331T010000
END:DAYLIGHT
BEGIN:STANDARD
TZOFFSETFROM:+0100
TZOFFSETTO:+0000
TZNAME:GMT
DTSTART:20191027T010000
END:STANDARD
END:VTIMEZONE
BEGIN:VEVENT
DTSTART;TZID=Europe/London:20191220T180000
DTEND;TZID=Europe/London:20191225T230000
DTSTAMP:20260422T132914
CREATED:20200123T194944Z
LAST-MODIFIED:20200123T194944Z
UID:5859-1576864800-1577314800@www.soundsofafrica.org
SUMMARY:FLYTIME MUSIC FESTIVAL 2019
DESCRIPTION:Fly Time Music Festival is an annual music and comedy festival which holds at the Eko Convention Center in Lagos Nigeria. Fly time promotions have been hosting Rhythm Unplugged since 2004 and this year makes it the 15th year the concert has been on in Nigeria. \nThere will be a five days music festival from the 20th- 25th of December\, 2019 at 8 pm daily at the Eko Convention Center\, Lagos \nDay 1- Friday\, December 20th\, 2019- Rhythm Unplugged \nDay 2- Saturday\, December 21st\, 2019- Boys II Men \nDay 3- Sunday\, December 22nd\, 2019- Megan Thee Stallion \nDay 4- Monday\, December 23rd\, 2019- Tiwa Savage \nDay 5- Wednesday\, December 25th\, 2019 \nFor ticket booking\, visit www.flytimemusicfestival.com \nFor tables\, call The Concierge Company on 0802-144-0206 or 0814-888-0937 or email: tables@theconciergecompany
URL:https://www.soundsofafrica.org/event/flytime-music-festival-2019-2/
LOCATION:Eko Convention Centre\, Eko Convention Centre\, Victoria Island\, Lagos\, Nigeria.\, Lagos\, Nigeria
CATEGORIES:afrobeats,concert
ATTACH;FMTTYPE=image/jpeg:https://www.soundsofafrica.org/wp-content/uploads/2019/12/74391852_1011964385819688_7907221056077692928_n.jpg
END:VEVENT
END:VCALENDAR