BEGIN:VCALENDAR
VERSION:2.0
PRODID:-//Sounds of Africa - ECPv5.3.2.1//NONSGML v1.0//EN
CALSCALE:GREGORIAN
METHOD:PUBLISH
X-WR-CALNAME:Sounds of Africa
X-ORIGINAL-URL:https://www.soundsofafrica.org
X-WR-CALDESC:Events for Sounds of Africa
BEGIN:VTIMEZONE
TZID:Europe/London
BEGIN:DAYLIGHT
TZOFFSETFROM:+0000
TZOFFSETTO:+0100
TZNAME:BST
DTSTART:20230326T010000
END:DAYLIGHT
BEGIN:STANDARD
TZOFFSETFROM:+0100
TZOFFSETTO:+0000
TZNAME:GMT
DTSTART:20231029T010000
END:STANDARD
END:VTIMEZONE
BEGIN:VEVENT
DTSTART;TZID=Europe/London:20230316T190000
DTEND;TZID=Europe/London:20230324T230000
DTSTAMP:20260422T095742
CREATED:20230212T170624Z
LAST-MODIFIED:20230212T170624Z
UID:12998-1678993200-1679698800@www.soundsofafrica.org
SUMMARY:Fireboy DML ‘Playboy’ Europe Tour
DESCRIPTION:Fireboy DML’  Playboy’ Europe Tour \nHe has released three albums\, the most recent being ‘Playboy’ in 2022\, and has collaborated with Ed Sheeran and many more. \nFireboy DML took over the OVO Arena Wembley for one night only in November 2022. \nThe ‘Playboy’ tour will commence in Switzerland on March 16 and continue in Paris on March 17. \nFireboy DML will perform in the Netherlands on March 23 before Denmark on March 23. \nThe tour will round up in Poland on March 24. \nHowever\, the ‘Peru’ singer made it known that more dates will be announced soon. \nLastly\, stay up to date with all you need to know about African music events at SOA. \nFor more ticket Information\, Click HERE. \nFireboy DML’  Playboy’ Europe Tour
URL:https://www.soundsofafrica.org/event/fireboy-dml-playboy-europe-tour/
CATEGORIES:Tour
ATTACH;FMTTYPE=image/png:https://www.soundsofafrica.org/wp-content/uploads/2023/02/screenshot-2023-02-12-at-16.43.56.png
END:VEVENT
END:VCALENDAR