BEGIN:VCALENDAR
VERSION:2.0
PRODID:-//Sounds of Africa - ECPv5.3.2.1//NONSGML v1.0//EN
CALSCALE:GREGORIAN
METHOD:PUBLISH
X-WR-CALNAME:Sounds of Africa
X-ORIGINAL-URL:https://www.soundsofafrica.org
X-WR-CALDESC:Events for Sounds of Africa
BEGIN:VTIMEZONE
TZID:Europe/London
BEGIN:DAYLIGHT
TZOFFSETFROM:+0000
TZOFFSETTO:+0100
TZNAME:BST
DTSTART:20200329T010000
END:DAYLIGHT
BEGIN:STANDARD
TZOFFSETFROM:+0100
TZOFFSETTO:+0000
TZNAME:GMT
DTSTART:20201025T010000
END:STANDARD
END:VTIMEZONE
BEGIN:VEVENT
DTSTART;TZID=Europe/London:20200329T190000
DTEND;TZID=Europe/London:20200329T230000
DTSTAMP:20260419T212740
CREATED:20200212T213612Z
LAST-MODIFIED:20200321T223547Z
UID:6348-1585508400-1585522800@www.soundsofafrica.org
SUMMARY:FALLY IPUPA Live in Concert 2020 *Cancelled*
DESCRIPTION:FALLY IPUPA Live in Concert 2020 \nFally Ipupa N’simba (born December 14\, 1977)\, known by his stage name Fally Ipupa\, is a Congolese singer-songwriter\, dancer\, philanthropist\, guitarist and producer. \nFrom 1999 until 2006\, he was a member of Quartier Latin International\, the music band formed in 1986 by Koffi Olomidé. \nHis first solo album was Droit Chemin released in 2006\, which went on to sell over 100\,000 units\, and his second album Arsenal de Belles Melodies was released in 2009. \nIn 2007\, Ipupa won the Kora Awards for Best Artist or Group from Central Africa. \nIn 2010\, Fally Ipupa won the MTV Africa Music Awards 2010 for Best Video for “Sexy Dance” and Best Francophone Artist. \nHe won the urban awards for Best African Artist. \nFally Ipupa was nominated in the Best Live Act category at the MTV Africa Music Awards 2014. \nHe released an album named Power “Kosa Leka” in 2013. \nIpupa\, who is also a noted guitar player\, connected with audiences stateside with “Chaise Electrique”\, a bilingual love song featuring former G-Unit singer [[Olivia (singer) Source – BBC. \nFALLY IPUPA Live in Concert 2020 For more info / tickets click here! \nLastly\, stay up to date with all you need to know about African music at SOA\, right here.
URL:https://www.soundsofafrica.org/event/fally-ipupa-live-in-concert-2020/
LOCATION:02 Academy Brixton\, 211 Stockwell Rd\, Brixton\, London\, London\, SW9 9SL\, United Kingdom
CATEGORIES:Cancelled,concert
ATTACH;FMTTYPE=image/jpeg:https://www.soundsofafrica.org/wp-content/uploads/2020/02/fally-ipupa-live-in-concert-2020.jpeg
END:VEVENT
END:VCALENDAR