BEGIN:VCALENDAR
VERSION:2.0
PRODID:-//Sounds of Africa - ECPv5.3.2.1//NONSGML v1.0//EN
CALSCALE:GREGORIAN
METHOD:PUBLISH
X-WR-CALNAME:Sounds of Africa
X-ORIGINAL-URL:https://www.soundsofafrica.org
X-WR-CALDESC:Events for Sounds of Africa
BEGIN:VTIMEZONE
TZID:Europe/London
BEGIN:DAYLIGHT
TZOFFSETFROM:+0000
TZOFFSETTO:+0100
TZNAME:BST
DTSTART:20200329T010000
END:DAYLIGHT
BEGIN:STANDARD
TZOFFSETFROM:+0100
TZOFFSETTO:+0000
TZNAME:GMT
DTSTART:20201025T010000
END:STANDARD
END:VTIMEZONE
BEGIN:VEVENT
DTSTART;TZID=Europe/London:20200313T190000
DTEND;TZID=Europe/London:20200313T230000
DTSTAMP:20260423T040005
CREATED:20200119T001558Z
LAST-MODIFIED:20200202T173800Z
UID:5634-1584126000-1584140400@www.soundsofafrica.org
SUMMARY:Exile of the African Warrior by Bimbi Philips
DESCRIPTION:Exile of the African Warrior by Bimbi Philips \nFor one-night-only\, experience the perfect blend of traditional and vibrant costumes\, powerful vocals with beautiful harmonies. Expect african instruments and percussions\, energetic dancing\, humour and lots of audience participation! \nExile of the African Warrior is centred around the àjoyo Festival. It focuses on the story of how an exiled African Warrior became a LEGEND! The production takes you on an amazing visual and musical journey depicting the life (Urban legend) of Odùduwà a Yoruba Deity. \nThe story is brought to life through the vocal chords and ancestral inspired melody of Bimbi Philips music. It’s a a perfect blend of visual and musical representation formed into a masterpiece. \nShare the experience\, experience the adventure! \nTo join this thrilling experience of Exile of the African Warrior by Bimbi Philips \, purchase your tickets at: https://www.bimbi.live/ \nLastly\, stay up to date with all you need to know about African music at SOA\, right here.
URL:https://www.soundsofafrica.org/event/exile-of-the-african-warrior-by-bimbi-philips-2/
LOCATION:Music Hall\, Union St\,\, Aberdeen\, AB10 1QS\, United Kingdom
CATEGORIES:concert,Musical Theatre
ATTACH;FMTTYPE=image/jpeg:https://www.soundsofafrica.org/wp-content/uploads/2020/01/exile-of-the-african-warrior-by-bimbi-philips.jpg
END:VEVENT
END:VCALENDAR