BEGIN:VCALENDAR
VERSION:2.0
PRODID:-//Sounds of Africa - ECPv5.3.2.1//NONSGML v1.0//EN
CALSCALE:GREGORIAN
METHOD:PUBLISH
X-WR-CALNAME:Sounds of Africa
X-ORIGINAL-URL:https://www.soundsofafrica.org
X-WR-CALDESC:Events for Sounds of Africa
BEGIN:VTIMEZONE
TZID:Europe/London
BEGIN:DAYLIGHT
TZOFFSETFROM:+0000
TZOFFSETTO:+0100
TZNAME:BST
DTSTART:20220327T010000
END:DAYLIGHT
BEGIN:STANDARD
TZOFFSETFROM:+0100
TZOFFSETTO:+0000
TZNAME:GMT
DTSTART:20221030T010000
END:STANDARD
END:VTIMEZONE
BEGIN:VEVENT
DTSTART;TZID=Europe/London:20220305T190000
DTEND;TZID=Europe/London:20220305T233000
DTSTAMP:20260419T194402
CREATED:20220121T002054Z
LAST-MODIFIED:20220121T010646Z
UID:11547-1646506800-1646523000@www.soundsofafrica.org
SUMMARY:Davido Return To 02 Arena
DESCRIPTION:Davido Return To 02 Arena \nDavido announced his return to 02 arena on his Instagram page in 2021. He had his first O2 Arena concert on Sunday night\, 27th January 2019\, and by all accounts\, it was a huge success. There were several surprises from Idris Elba\, who introduced davido to the stage\, Fashion Queen Naomi Campbell to British Vogue Editor Edward Enninful to Singer Liam Payne to  Jamaican singer Popcaan performing on stage with davido. \nFurthermore\, the DMW boss packed out the 20\,000-capacity arena\, showcasing his many hits and cementing his top spot on afrobeats’ global stage. \nThe Nigerian superstar\, who the Compozers backed\, ran through his many hits from across the years throughout the night—” Fall\,” “If\,” “FIA\,” “Dami Duro\,” and many more. \nMoreover\, He even brought out his then-girlfriend Chioma for “Assurance.” We can’t imagine what to expect from Davido in 2022 if we go by the number of surprises in 2019. \nFor tickets\, information click here \nLastly\, stay up to date with all you need to know about African music at SOA\, right here. \nImages from Davido’s 2019 02 Arena concert \nLondon\, UK. 27th January 2019. Davido performing live at The 02 Arena. Photographed Michael Tubes. \nLondon\, UK. 27th January 2019. Davido with Smade\, the show’s promoter\, in his dressing room\, before his live performance at The 02 Arena. Photographed Michael Tubes. \nLondon\, UK. 27th January 2019. One of Davido’s clothes for his performance at The 02 Arena. Photographed Michael Tubes. \nLondon\, UK. 27th January 2019. Davido with his girlfriend Chioma before his live performance at The 02 Arena. Photographed Michael Tubes. \nLondon\, UK. 27th January 2019. Davido performing live at The 02 Arena. Photographed Michael Tubes. \nLondon\, UK. 27th January 2019. Davido performing live at The 02 Arena. Photographed Michael Tubes. \nLondon\, United Kingdom. 27th January 2019. Idris Elba with Davido in his dressing room before his concert at the 02 arena. Photographed by Michael Tubes.
URL:https://www.soundsofafrica.org/event/davido-return-to-02-arena/
LOCATION:The O2 Arena\, Peninsula Square\, Greenwich Peninsula\, London\, London\, SE10 0DX\, United Kingdom
CATEGORIES:concert
ATTACH;FMTTYPE=image/jpeg:https://www.soundsofafrica.org/wp-content/uploads/2022/01/img_4043.jpg
END:VEVENT
END:VCALENDAR