BEGIN:VCALENDAR
VERSION:2.0
PRODID:-//Sounds of Africa - ECPv5.3.2.1//NONSGML v1.0//EN
CALSCALE:GREGORIAN
METHOD:PUBLISH
X-WR-CALNAME:Sounds of Africa
X-ORIGINAL-URL:https://www.soundsofafrica.org
X-WR-CALDESC:Events for Sounds of Africa
BEGIN:VTIMEZONE
TZID:Europe/London
BEGIN:DAYLIGHT
TZOFFSETFROM:+0000
TZOFFSETTO:+0100
TZNAME:BST
DTSTART:20200329T010000
END:DAYLIGHT
BEGIN:STANDARD
TZOFFSETFROM:+0100
TZOFFSETTO:+0000
TZNAME:GMT
DTSTART:20201025T010000
END:STANDARD
END:VTIMEZONE
BEGIN:VEVENT
DTSTART;TZID=Europe/London:20200307T080000
DTEND;TZID=Europe/London:20201117T170000
DTSTAMP:20260419T214234
CREATED:20200205T184642Z
LAST-MODIFIED:20200627T105356Z
UID:6335-1583568000-1605632400@www.soundsofafrica.org
SUMMARY:Dadju P.O.A Tour 2020 *Postponed*
DESCRIPTION:Dadju P.O.A Tour 2020 \nDadju is a French singer. He was signed to the label Wati B and in 2017 signed with Polydor Records of Universal Music Group. \nHe was a member of the musical formation Shin Sekai alongside rapper Abou Tall from 2012 to 2016. \nThe duo was part of the label Wati B and released the album Indéfini. The duo announced that they were breaking up so they can each follow solo careers. Dadju released his solo album Gentleman 2.0 in 2017. He released his second album Poison Ou Antidote in 2019. \nDadju comes from a musical family. His father is Djanana Djuna\, a vocalist of Papa Wemba’s band. \nHis brother Maître Gims\, a famous solo rapper and a member of the successful French rap group Sexion d’Assaut\, a major act of Wati B. His other brother Bedjik and Xgangs are also rappers in their own right. \nDadju P.O.A Tour 2020 For more info click here! \nLastly\, stay up to date with all you need to know about African music at SOA\, right here. \n \n  \n 
URL:https://www.soundsofafrica.org/event/dadju-p-o-a-tour-2020/
CATEGORIES:concert,Postponed,Tour
ATTACH;FMTTYPE=image/jpeg:https://www.soundsofafrica.org/wp-content/uploads/2020/02/1549226-1579615362.jpg
END:VEVENT
END:VCALENDAR