BEGIN:VCALENDAR
VERSION:2.0
PRODID:-//Sounds of Africa - ECPv5.3.2.1//NONSGML v1.0//EN
CALSCALE:GREGORIAN
METHOD:PUBLISH
X-WR-CALNAME:Sounds of Africa
X-ORIGINAL-URL:https://www.soundsofafrica.org
X-WR-CALDESC:Events for Sounds of Africa
BEGIN:VTIMEZONE
TZID:Europe/London
BEGIN:DAYLIGHT
TZOFFSETFROM:+0000
TZOFFSETTO:+0100
TZNAME:BST
DTSTART:20200329T010000
END:DAYLIGHT
BEGIN:STANDARD
TZOFFSETFROM:+0100
TZOFFSETTO:+0000
TZNAME:GMT
DTSTART:20201025T010000
END:STANDARD
END:VTIMEZONE
BEGIN:VEVENT
DTSTART;TZID=Europe/London:20200530T170000
DTEND;TZID=Europe/London:20200530T180000
DTSTAMP:20260420T091206
CREATED:20200517T213050Z
LAST-MODIFIED:20200517T214243Z
UID:7103-1590858000-1590861600@www.soundsofafrica.org
SUMMARY:Covid De Mayo - Social Distancing Car Rave
DESCRIPTION:First Auto Rave in the UK! \nCome and join the movement! \nCome and support the NHS! \nCOVID De Mayo – Social Distancing Car Rave will be raising money to celebrate and support the NHS for the great work that they are doing during this time. Come along on Saturday the 30th of May and join us at the secret location. Gates will be opening from 3 pm\, event starts at 4 pm\, gates close at 5 pm with the event finishing at 6 pm. \nPlease note that you WILL NOT be able to leave your car to maintain social distancing measures during this event. \nBring your drinks\, wear a mask\, hold a sanitiser and wear gloves\, together we shall beat this pandemic! \nCOVID De Mayo – Social Distancing Car Rave For more info click here! \nLastly\, stay up to date with all you need to know about African music at SOA\, right here. \n 
URL:https://www.soundsofafrica.org/event/covid-de-mayo-social-distancing-car-rave/
CATEGORIES:afrobeats
ATTACH;FMTTYPE=image/jpeg:https://www.soundsofafrica.org/wp-content/uploads/2020/05/33ec0e9c-40f0-4868-922e-d9140fd68bf8-2.jpg
END:VEVENT
END:VCALENDAR