BEGIN:VCALENDAR
VERSION:2.0
PRODID:-//Sounds of Africa - ECPv5.3.2.1//NONSGML v1.0//EN
CALSCALE:GREGORIAN
METHOD:PUBLISH
X-WR-CALNAME:Sounds of Africa
X-ORIGINAL-URL:https://www.soundsofafrica.org
X-WR-CALDESC:Events for Sounds of Africa
BEGIN:VTIMEZONE
TZID:Europe/London
BEGIN:DAYLIGHT
TZOFFSETFROM:+0000
TZOFFSETTO:+0100
TZNAME:BST
DTSTART:20220327T010000
END:DAYLIGHT
BEGIN:STANDARD
TZOFFSETFROM:+0100
TZOFFSETTO:+0000
TZNAME:GMT
DTSTART:20221030T010000
END:STANDARD
END:VTIMEZONE
BEGIN:VEVENT
DTSTART;TZID=Europe/London:20220320T170000
DTEND;TZID=Europe/London:20220320T233000
DTSTAMP:20260419T233545
CREATED:20220121T201031Z
LAST-MODIFIED:20220121T201031Z
UID:12182-1647795600-1647819000@www.soundsofafrica.org
SUMMARY:COKO FESTIVAL FT BURNA BOY
DESCRIPTION:COKO FESTIVAL FT BURNA BOY \nManchester’s Largest Afrofusion Festival featuring Burna Boy\, Fireboy\, Adekunle Gold\, Tiwa Savage\, Beenie Man\, Omah Lay\, Oxlade\, Nissi\, L.A.X\, Rebecca Winter\, TXC\, and More. \nGenres AfroBeats\, Amapiano\, Reggae \n\nFor Ticket Information\, Click here. \nLastly\, stay up to date with all you need to know about African music at SOA\, right here
URL:https://www.soundsofafrica.org/event/coko-festival-ft-burna-boy/
LOCATION:AO Arena\, Victoria Station Approach\, Hunts Bank\,\, Manchester\, M3 1AR\, United Kingdom
CATEGORIES:festival
ATTACH;FMTTYPE=image/jpeg:https://www.soundsofafrica.org/wp-content/uploads/2022/01/img_4049.jpg
END:VEVENT
END:VCALENDAR