BEGIN:VCALENDAR
VERSION:2.0
PRODID:-//Sounds of Africa - ECPv5.3.2.1//NONSGML v1.0//EN
CALSCALE:GREGORIAN
METHOD:PUBLISH
X-WR-CALNAME:Sounds of Africa
X-ORIGINAL-URL:https://www.soundsofafrica.org
X-WR-CALDESC:Events for Sounds of Africa
BEGIN:VTIMEZONE
TZID:Europe/London
BEGIN:DAYLIGHT
TZOFFSETFROM:+0000
TZOFFSETTO:+0100
TZNAME:BST
DTSTART:20190331T010000
END:DAYLIGHT
BEGIN:STANDARD
TZOFFSETFROM:+0100
TZOFFSETTO:+0000
TZNAME:GMT
DTSTART:20191027T010000
END:STANDARD
END:VTIMEZONE
BEGIN:VEVENT
DTSTART;TZID=Europe/London:20191220T180000
DTEND;TZID=Europe/London:20191221T000000
DTSTAMP:20260422T151827
CREATED:20200118T152306Z
LAST-MODIFIED:20200123T170505Z
UID:5573-1576864800-1576886400@www.soundsofafrica.org
SUMMARY:Chop the head of your life at THE PARTY OF THE YEAR!
DESCRIPTION:Chop the head of your life at THE PARTY OF THE YEAR! Faaji Friday 2.0OhEmGee Limited presents Faaji Friday 2.0\, the second edition of Faaji Friday with Emma OMG and #TheOhEmGeeBand. \nHeadlined by the 16-man band\, Faaji Friday 2.0 will hold on 20 December\, 2019 at the Shell Hall\, MUSON Center\, Onikan\, Lagos. \nMoreover\, It will be a night of unlimited enjoyment\, dancing and fun\, and will feature guest appearances from notable artistes and comedians. \nLastly\, its an avenue to unwind\, network &amp; listen to amazing highlife\, R&amp;B\, Afrobeats\, Afropop\, POP songs by the OhEmGee band. \nPurchase your<a href=’https://theohemgeeband.com/product/faaji-friday-tickets/’><strong> TICKETS HERE</strong></a>
URL:https://www.soundsofafrica.org/event/chop-the-head-of-your-life-at-the-party-of-the-year/
LOCATION:Muson Centre\, Marina Exit\, Lagos Island\, Lagos\, Nigeria\, Lagos\, Nigeria
CATEGORIES:afrobeats
ATTACH;FMTTYPE=image/jpeg:https://www.soundsofafrica.org/wp-content/uploads/2019/10/img_db30959c68c2-1.jpeg
END:VEVENT
END:VCALENDAR