BEGIN:VCALENDAR
VERSION:2.0
PRODID:-//Sounds of Africa - ECPv5.3.2.1//NONSGML v1.0//EN
CALSCALE:GREGORIAN
METHOD:PUBLISH
X-WR-CALNAME:Sounds of Africa
X-ORIGINAL-URL:https://www.soundsofafrica.org
X-WR-CALDESC:Events for Sounds of Africa
BEGIN:VTIMEZONE
TZID:Europe/London
BEGIN:DAYLIGHT
TZOFFSETFROM:+0000
TZOFFSETTO:+0100
TZNAME:BST
DTSTART:20210328T010000
END:DAYLIGHT
BEGIN:STANDARD
TZOFFSETFROM:+0100
TZOFFSETTO:+0000
TZNAME:GMT
DTSTART:20211031T010000
END:STANDARD
END:VTIMEZONE
BEGIN:VEVENT
DTSTART;TZID=Europe/London:20210714T190000
DTEND;TZID=Europe/London:20210714T220000
DTSTAMP:20260420T013255
CREATED:20210630T142934Z
LAST-MODIFIED:20210710T232238Z
UID:9725-1626289200-1626300000@www.soundsofafrica.org
SUMMARY:BuskIT Sessions: Virtual Concert *** postpone***
DESCRIPTION:BuskIT Sessions: Virtual Concert  \nBlack-owned crowdfunding app @mybusks – designed & dedicated to empowering talented musicians globally.  \nAllowing their users to virtually raise money for personal endeavours and/or for charity! \nThis event will bridge the gap between fans & Artists/Creatives by allowing them to directly access their fan bases organically\, gain new ones\, & reach their critical supporters by using modern creative events recognising the niche in the market. \nLive performances by Trayc Selasi\, Komo Official\, Valee Music\, Shocka\, French Nana\, 4 Stringsz\, DJ Paak & RLS. \nNot to be missed!! \nLastly\, stay up to date with all you need to know about African music at SOA\, right here.
URL:https://www.soundsofafrica.org/event/buskit-sessions-virtual-concert/
CATEGORIES:Postponed
ATTACH;FMTTYPE=image/png:https://www.soundsofafrica.org/wp-content/uploads/2021/06/screenshot-2021-06-30-at-15.20.21.png
END:VEVENT
END:VCALENDAR