BEGIN:VCALENDAR
VERSION:2.0
PRODID:-//Sounds of Africa - ECPv5.3.2.1//NONSGML v1.0//EN
CALSCALE:GREGORIAN
METHOD:PUBLISH
X-WR-CALNAME:Sounds of Africa
X-ORIGINAL-URL:https://www.soundsofafrica.org
X-WR-CALDESC:Events for Sounds of Africa
BEGIN:VTIMEZONE
TZID:Europe/London
BEGIN:DAYLIGHT
TZOFFSETFROM:+0000
TZOFFSETTO:+0100
TZNAME:BST
DTSTART:20200329T010000
END:DAYLIGHT
BEGIN:STANDARD
TZOFFSETFROM:+0100
TZOFFSETTO:+0000
TZNAME:GMT
DTSTART:20201025T010000
END:STANDARD
END:VTIMEZONE
BEGIN:VEVENT
DTSTART;TZID=Europe/London:20200529T230000
DTEND;TZID=Europe/London:20200531T230000
DTSTAMP:20260422T191443
CREATED:20200118T152306Z
LAST-MODIFIED:20200123T162832Z
UID:5571-1590793200-1590966000@www.soundsofafrica.org
SUMMARY:BUSHFIRE MUSIC FESTIVAL 2020
DESCRIPTION:BUSHFIRE MUSIC FESTIVAL 2020According to the wesite\, MTN Bushfire is more than a festival\, it’s a living\, breathing ecosystem deeply rooted in African soil\, yet inclusive and welcoming to guests from all over the world. \nThis uniquely African\, and yet globally infused festival experience welcomes thousands in an atmosphere of tolerance and passionate commitment to music\, the arts and the environment. \nEvery year\, over 26\,000 attendees hailing from 60 different countries make the journey from near and far to the peaceful Malkerns Valley of eSwatini for an energizing and uplifting weekend that celebrates the music and arts of Africa and beyond. \nFor more ticket ( BUSHFIRE MUSIC FESTIVAL 2020) information\, visit <a href=’https://www.bush-fire.com/tickets/buy-tickets/’>https://www.bush-fire.com/tickets/buy-tickets/</a> \nLastly\, stay up to date with all you need to know about African music\, right here at <a href=’http://www.soundsofafrica.org’><strong>SOA</strong></a>!
URL:https://www.soundsofafrica.org/event/bushfire-music-festival-2020/
LOCATION:House on Fire\, Malandela's Farm. PO Box 93 Malkerns\,M204\, Eswatini\, Malkerns\, M204\, Swaziland
CATEGORIES:afrobeats,event
ATTACH;FMTTYPE=image/jpeg:https://www.soundsofafrica.org/wp-content/uploads/2020/01/bushfire-2020.jpg
END:VEVENT
END:VCALENDAR