BEGIN:VCALENDAR
VERSION:2.0
PRODID:-//Sounds of Africa - ECPv5.3.2.1//NONSGML v1.0//EN
CALSCALE:GREGORIAN
METHOD:PUBLISH
X-WR-CALNAME:Sounds of Africa
X-ORIGINAL-URL:https://www.soundsofafrica.org
X-WR-CALDESC:Events for Sounds of Africa
BEGIN:VTIMEZONE
TZID:Europe/London
BEGIN:DAYLIGHT
TZOFFSETFROM:+0000
TZOFFSETTO:+0100
TZNAME:BST
DTSTART:20220327T010000
END:DAYLIGHT
BEGIN:STANDARD
TZOFFSETFROM:+0100
TZOFFSETTO:+0000
TZNAME:GMT
DTSTART:20221030T010000
END:STANDARD
END:VTIMEZONE
BEGIN:VEVENT
DTSTART;TZID=Europe/London:20220317T190000
DTEND;TZID=Europe/London:20220317T233000
DTSTAMP:20260419T194324
CREATED:20220121T205543Z
LAST-MODIFIED:20220121T205956Z
UID:12187-1647543600-1647559800@www.soundsofafrica.org
SUMMARY:Burnaboy Spacedrift - Dublin
DESCRIPTION:Grammy Award Winner\, Burna Boy\, continues his SpaceDrift tour in Dublin. \nHe is Arguably one of the most prolific artists out of Africa and one of the world’s most prominent international artists. \nHis concerts are always intriguing\, and he will probably perform a new single from his single ‘ballon d’Or featuring Wizkid \nBurnaboy Spacedrift – Dublin: For more info\, click here!. \nLastly\, stay up to date with all you need to know about African music at SOA\, right here.
URL:https://www.soundsofafrica.org/event/burnaboy-spacedrift-dublin/
LOCATION:3Arena\, 3Arena N Wall Quay\, North Dock\, Dublin\, Ireland
CATEGORIES:concert
ATTACH;FMTTYPE=image/jpeg:https://www.soundsofafrica.org/wp-content/uploads/2022/01/img_e4c2f12a71c0-1.jpeg
END:VEVENT
END:VCALENDAR