BEGIN:VCALENDAR
VERSION:2.0
PRODID:-//Sounds of Africa - ECPv5.3.2.1//NONSGML v1.0//EN
CALSCALE:GREGORIAN
METHOD:PUBLISH
X-WR-CALNAME:Sounds of Africa
X-ORIGINAL-URL:https://www.soundsofafrica.org
X-WR-CALDESC:Events for Sounds of Africa
BEGIN:VTIMEZONE
TZID:Europe/London
BEGIN:DAYLIGHT
TZOFFSETFROM:+0000
TZOFFSETTO:+0100
TZNAME:BST
DTSTART:20220327T010000
END:DAYLIGHT
BEGIN:STANDARD
TZOFFSETFROM:+0100
TZOFFSETTO:+0000
TZNAME:GMT
DTSTART:20221030T010000
END:STANDARD
END:VTIMEZONE
BEGIN:VEVENT
DTSTART;TZID=Europe/London:20220408T180000
DTEND;TZID=Europe/London:20220408T233000
DTSTAMP:20260419T234247
CREATED:20220121T220008Z
LAST-MODIFIED:20220121T230157Z
UID:12192-1649440800-1649460600@www.soundsofafrica.org
SUMMARY:Burna Boy ‘One Night In Space’ at Madison Square Garden
DESCRIPTION:Burna Boy ‘One Night In Space’ at Madison Square Garden \nBurna Boy will become the first Nigerian artist to headline New York’s prestigious Madison Square Garden. The Grammy Awards winner announced a historic one-off show dubbed ‘One Night In Space’. \nThe concert will occur at the iconic stadium – which has a seating capacity of 20\,789 – on Thursday\, April 28\, 2022. Tickets went on sale at noon EST Friday (December 17). \nHe is Arguably one of the most prolific artists out of Africa and one of the world’s most prominent international artists. \nBurna Boy ‘One Night In Space’ at Madison Square Garden: For more info\, click here!. \nLastly\, stay up to date with all you need to know about African music at SOA\, right here.
URL:https://www.soundsofafrica.org/event/burna-boy-one-night-in-space-at-madison-square-garden/
LOCATION:Madison Square Garden\,\, 4 Pennsylvania Plaza\,\, New York\, NY\, NY 10001\,\, United States
CATEGORIES:concert
ATTACH;FMTTYPE=image/jpeg:https://www.soundsofafrica.org/wp-content/uploads/2020/01/the-african-giant-arena-tour-177.jpg
END:VEVENT
END:VCALENDAR